BEGIN:VCALENDAR
VERSION:2.0
PRODID:-//134.96.226.213//NONSGML kigkonsult.se iCalcreator 2.41.92//
CALSCALE:GREGORIAN
METHOD:PUBLISH
UID:37636638-3730-4334-a332-373738386433
X-WR-CALNAME:High Level Computer Vision Calendar
X-WR-CALDESC:Events of the lecture High Level Computer Vision
X-WR-TIMEZONE:Europe/Berlin
BEGIN:VEVENT
UID:36373538-6166-4539-a632-643537383866
DTSTAMP:20260425T195949Z
DESCRIPTION:
DTSTART:20200511T080000Z
DTEND:20200511T100000Z
SUMMARY:Hlcvss20: Tutorials
END:VEVENT
BEGIN:VEVENT
UID:66636138-3732-4461-a239-353563666137
DTSTAMP:20260425T195949Z
DESCRIPTION:
DTSTART:20200518T080000Z
DTEND:20200518T100000Z
SUMMARY:Hlcvss20: Tutorials
END:VEVENT
BEGIN:VEVENT
UID:39373733-3466-4263-b363-633631613537
DTSTAMP:20260425T195949Z
DESCRIPTION:
DTSTART:20200525T080000Z
DTEND:20200525T100000Z
SUMMARY:Hlcvss20: Tutorials
END:VEVENT
BEGIN:VEVENT
UID:35363266-6162-4738-b933-353939333234
DTSTAMP:20260425T195949Z
DESCRIPTION:
DTSTART:20200601T080000Z
DTEND:20200601T100000Z
SUMMARY:Hlcvss20: Tutorials
END:VEVENT
BEGIN:VEVENT
UID:32653038-6532-4436-b263-336261376434
DTSTAMP:20260425T195949Z
DESCRIPTION:
DTSTART:20200608T080000Z
DTEND:20200608T100000Z
SUMMARY:Hlcvss20: Tutorials
END:VEVENT
BEGIN:VEVENT
UID:31646130-3331-4461-b334-613363333138
DTSTAMP:20260425T195949Z
DESCRIPTION:
DTSTART:20200615T080000Z
DTEND:20200615T100000Z
SUMMARY:Hlcvss20: Tutorials
END:VEVENT
BEGIN:VEVENT
UID:63353861-3566-4535-a333-616233623738
DTSTAMP:20260425T195949Z
DESCRIPTION:
DTSTART:20200622T080000Z
DTEND:20200622T100000Z
SUMMARY:Hlcvss20: Tutorials
END:VEVENT
BEGIN:VEVENT
UID:64333839-3337-4537-b135-333734303432
DTSTAMP:20260425T195949Z
DESCRIPTION:
DTSTART:20200629T080000Z
DTEND:20200629T100000Z
SUMMARY:Hlcvss20: Tutorials
END:VEVENT
BEGIN:VEVENT
UID:63326539-3965-4434-b130-393236373031
DTSTAMP:20260425T195949Z
DESCRIPTION:
DTSTART:20200706T080000Z
DTEND:20200706T100000Z
SUMMARY:Hlcvss20: Tutorials
END:VEVENT
BEGIN:VEVENT
UID:39356330-3163-4338-a334-323237646236
DTSTAMP:20260425T195949Z
DESCRIPTION:
DTSTART:20200713T080000Z
DTEND:20200713T100000Z
SUMMARY:Hlcvss20: Tutorials
END:VEVENT
END:VCALENDAR
