BEGIN:VCALENDAR
VERSION:2.0
PRODID:-//134.96.226.213//NONSGML kigkonsult.se iCalcreator 2.41.92//
CALSCALE:GREGORIAN
METHOD:PUBLISH
UID:37666332-6439-4234-b132-393630656530
X-WR-CALNAME:High Level Computer Vision Calendar
X-WR-CALDESC:Events of the lecture High Level Computer Vision
X-WR-TIMEZONE:Europe/Berlin
BEGIN:VEVENT
UID:35393337-3866-4263-a662-666362363235
DTSTAMP:20260425T183129Z
DESCRIPTION:
DTSTART:20200506T080000Z
DTEND:20200506T100000Z
SUMMARY:Hlcvss20: Lectures
END:VEVENT
BEGIN:VEVENT
UID:62346265-3335-4531-b961-616332643161
DTSTAMP:20260425T183129Z
DESCRIPTION:
DTSTART:20200513T080000Z
DTEND:20200513T100000Z
SUMMARY:Hlcvss20: Lectures
END:VEVENT
BEGIN:VEVENT
UID:62303863-6530-4530-a339-626664393230
DTSTAMP:20260425T183129Z
DESCRIPTION:
DTSTART:20200520T080000Z
DTEND:20200520T100000Z
SUMMARY:Hlcvss20: Lectures
END:VEVENT
BEGIN:VEVENT
UID:31333436-6562-4839-b864-336231306339
DTSTAMP:20260425T183129Z
DESCRIPTION:
DTSTART:20200527T080000Z
DTEND:20200527T100000Z
SUMMARY:Hlcvss20: Lectures
END:VEVENT
BEGIN:VEVENT
UID:34663531-3535-4833-b466-303665363430
DTSTAMP:20260425T183129Z
DESCRIPTION:
DTSTART:20200603T080000Z
DTEND:20200603T100000Z
SUMMARY:Hlcvss20: Lectures
END:VEVENT
BEGIN:VEVENT
UID:65396233-3764-4665-b564-613932623339
DTSTAMP:20260425T183129Z
DESCRIPTION:
DTSTART:20200610T080000Z
DTEND:20200610T100000Z
SUMMARY:Hlcvss20: Lectures
END:VEVENT
BEGIN:VEVENT
UID:34383165-6234-4232-b230-356338363536
DTSTAMP:20260425T183129Z
DESCRIPTION:
DTSTART:20200617T080000Z
DTEND:20200617T100000Z
SUMMARY:Hlcvss20: Lectures
END:VEVENT
BEGIN:VEVENT
UID:33366536-3761-4631-b434-336630386636
DTSTAMP:20260425T183129Z
DESCRIPTION:
DTSTART:20200624T080000Z
DTEND:20200624T100000Z
SUMMARY:Hlcvss20: Lectures
END:VEVENT
BEGIN:VEVENT
UID:62326665-6366-4565-b730-626135646266
DTSTAMP:20260425T183129Z
DESCRIPTION:
DTSTART:20200701T080000Z
DTEND:20200701T100000Z
SUMMARY:Hlcvss20: Lectures
END:VEVENT
BEGIN:VEVENT
UID:30643266-6333-4161-a238-396639643665
DTSTAMP:20260425T183129Z
DESCRIPTION:
DTSTART:20200708T080000Z
DTEND:20200708T100000Z
SUMMARY:Hlcvss20: Lectures
END:VEVENT
BEGIN:VEVENT
UID:30656166-6664-4636-b935-613261333366
DTSTAMP:20260425T183129Z
DESCRIPTION:
DTSTART:20200715T080000Z
DTEND:20200715T100000Z
SUMMARY:Hlcvss20: Lectures
END:VEVENT
END:VCALENDAR
