BEGIN:VCALENDAR
VERSION:2.0
PRODID:-//134.96.226.213//NONSGML kigkonsult.se iCalcreator 2.41.92//
CALSCALE:GREGORIAN
METHOD:PUBLISH
UID:35386430-6466-4936-b162-626466306532
X-WR-CALNAME:High Level Computer Vision Calendar
X-WR-CALDESC:Events of the lecture High Level Computer Vision
X-WR-TIMEZONE:Europe/Berlin
BEGIN:VEVENT
UID:65363237-3365-4161-b232-353633653263
DTSTAMP:20260425T183134Z
DESCRIPTION:
DTSTART:20200506T080000Z
DTEND:20200506T100000Z
SUMMARY:Lectures
END:VEVENT
BEGIN:VEVENT
UID:38366363-3262-4733-b730-613734646131
DTSTAMP:20260425T183134Z
DESCRIPTION:
DTSTART:20200513T080000Z
DTEND:20200513T100000Z
SUMMARY:Lectures
END:VEVENT
BEGIN:VEVENT
UID:39333431-3062-4137-b964-663233383339
DTSTAMP:20260425T183134Z
DESCRIPTION:
DTSTART:20200520T080000Z
DTEND:20200520T100000Z
SUMMARY:Lectures
END:VEVENT
BEGIN:VEVENT
UID:61643265-3736-4464-a462-363836323338
DTSTAMP:20260425T183134Z
DESCRIPTION:
DTSTART:20200527T080000Z
DTEND:20200527T100000Z
SUMMARY:Lectures
END:VEVENT
BEGIN:VEVENT
UID:39386237-6162-4136-a239-393963373537
DTSTAMP:20260425T183134Z
DESCRIPTION:
DTSTART:20200603T080000Z
DTEND:20200603T100000Z
SUMMARY:Lectures
END:VEVENT
BEGIN:VEVENT
UID:37323434-3637-4136-b065-636132376437
DTSTAMP:20260425T183134Z
DESCRIPTION:
DTSTART:20200610T080000Z
DTEND:20200610T100000Z
SUMMARY:Lectures
END:VEVENT
BEGIN:VEVENT
UID:30663039-3566-4963-a466-373933323261
DTSTAMP:20260425T183134Z
DESCRIPTION:
DTSTART:20200617T080000Z
DTEND:20200617T100000Z
SUMMARY:Lectures
END:VEVENT
BEGIN:VEVENT
UID:30373137-3231-4561-b837-643332383432
DTSTAMP:20260425T183134Z
DESCRIPTION:
DTSTART:20200624T080000Z
DTEND:20200624T100000Z
SUMMARY:Lectures
END:VEVENT
BEGIN:VEVENT
UID:66636166-6463-4464-a364-333065666566
DTSTAMP:20260425T183134Z
DESCRIPTION:
DTSTART:20200701T080000Z
DTEND:20200701T100000Z
SUMMARY:Lectures
END:VEVENT
BEGIN:VEVENT
UID:36323133-6636-4264-a563-343764356236
DTSTAMP:20260425T183134Z
DESCRIPTION:
DTSTART:20200708T080000Z
DTEND:20200708T100000Z
SUMMARY:Lectures
END:VEVENT
BEGIN:VEVENT
UID:34323238-3761-4361-b737-383433303633
DTSTAMP:20260425T183134Z
DESCRIPTION:
DTSTART:20200715T080000Z
DTEND:20200715T100000Z
SUMMARY:Lectures
END:VEVENT
END:VCALENDAR
