BEGIN:VCALENDAR
VERSION:2.0
PRODID:-//134.96.226.213//NONSGML kigkonsult.se iCalcreator 2.41.92//
CALSCALE:GREGORIAN
METHOD:PUBLISH
UID:63363638-3163-4530-a463-636536626536
X-WR-CALNAME:Human Computer Interaction Calendar
X-WR-CALDESC:Events of the lecture Human Computer Interaction
X-WR-TIMEZONE:Europe/Berlin
BEGIN:VEVENT
UID:37633038-3563-4233-b237-376235336139
DTSTAMP:20260425T153944Z
DESCRIPTION:
DTSTART:20260402T120000Z
DTEND:20260402T150000Z
SUMMARY:Hci: Re-exam
END:VEVENT
END:VCALENDAR
