BEGIN:VCALENDAR
VERSION:2.0
PRODID:-//134.96.226.213//NONSGML kigkonsult.se iCalcreator 2.41.92//
CALSCALE:GREGORIAN
METHOD:PUBLISH
UID:64646636-3837-4166-b664-386637623862
X-WR-CALNAME:Human Computer Interaction Calendar
X-WR-CALDESC:Events of the lecture Human Computer Interaction
X-WR-TIMEZONE:Europe/Berlin
BEGIN:VEVENT
UID:35366462-6437-4765-a237-646637623761
DTSTAMP:20260425T153948Z
DESCRIPTION:
DTSTART:20260402T120000Z
DTEND:20260402T150000Z
SUMMARY:Re-exam
END:VEVENT
END:VCALENDAR
