BEGIN:VCALENDAR
VERSION:2.0
PRODID:-//134.96.226.213//NONSGML kigkonsult.se iCalcreator 2.41.92//
CALSCALE:GREGORIAN
METHOD:PUBLISH
UID:62393236-6664-4835-a363-323962336238
X-WR-CALNAME:Human Computer Interaction Calendar
X-WR-CALDESC:Events of the lecture Human Computer Interaction
X-WR-TIMEZONE:Europe/Berlin
BEGIN:VEVENT
UID:63616434-3762-4765-b031-313831373539
DTSTAMP:20260425T153944Z
DESCRIPTION:
DTSTART:20260225T130000Z
DTEND:20260225T160000Z
SUMMARY:Hci: Main Exam
END:VEVENT
END:VCALENDAR
