BEGIN:VCALENDAR
VERSION:2.0
PRODID:-//134.96.226.213//NONSGML kigkonsult.se iCalcreator 2.41.92//
CALSCALE:GREGORIAN
METHOD:PUBLISH
UID:37383833-3834-4538-a336-323261363538
X-WR-CALNAME:Human Computer Interaction Calendar
X-WR-CALDESC:Events of the lecture Human Computer Interaction
X-WR-TIMEZONE:Europe/Berlin
BEGIN:VEVENT
UID:38363731-3934-4931-a631-376166633563
DTSTAMP:20260425T154052Z
DESCRIPTION:
DTSTART:20260225T130000Z
DTEND:20260225T160000Z
SUMMARY:Main Exam
END:VEVENT
END:VCALENDAR
