BEGIN:VCALENDAR
VERSION:2.0
PRODID:-//134.96.226.213//NONSGML kigkonsult.se iCalcreator 2.41.92//
CALSCALE:GREGORIAN
METHOD:PUBLISH
UID:61396535-3035-4536-b637-343061333466
X-WR-CALNAME:Human Computer Interaction Calendar
X-WR-CALDESC:Events of the lecture Human Computer Interaction
X-WR-TIMEZONE:Europe/Berlin
BEGIN:VEVENT
UID:34626136-6337-4936-b939-653263623032
DTSTAMP:20260425T153947Z
DESCRIPTION:
DTSTART:20251031T090000Z
DTEND:20251031T110000Z
LOCATION:E1.3\, SR015
SUMMARY:Hci: Tutorial #6 (Cedric)
END:VEVENT
BEGIN:VEVENT
UID:37393237-3031-4466-b962-666531636432
DTSTAMP:20260425T153947Z
DESCRIPTION:
DTSTART:20251107T090000Z
DTEND:20251107T110000Z
LOCATION:E1.3\, SR015
SUMMARY:Hci: Tutorial #6 (Cedric)
END:VEVENT
BEGIN:VEVENT
UID:39643865-3930-4364-b837-376661336235
DTSTAMP:20260425T153947Z
DESCRIPTION:
DTSTART:20251114T090000Z
DTEND:20251114T110000Z
LOCATION:E1.3\, SR015
SUMMARY:Hci: Tutorial #6 (Cedric)
END:VEVENT
BEGIN:VEVENT
UID:61616436-3136-4463-b035-303332356137
DTSTAMP:20260425T153947Z
DESCRIPTION:
DTSTART:20251121T090000Z
DTEND:20251121T110000Z
LOCATION:E1.3\, SR015
SUMMARY:Hci: Tutorial #6 (Cedric)
END:VEVENT
BEGIN:VEVENT
UID:61383837-3639-4963-b135-613337306537
DTSTAMP:20260425T153947Z
DESCRIPTION:
DTSTART:20251128T090000Z
DTEND:20251128T110000Z
LOCATION:E1.3\, SR015
SUMMARY:Hci: Tutorial #6 (Cedric)
END:VEVENT
BEGIN:VEVENT
UID:33373835-6262-4465-a464-656530333232
DTSTAMP:20260425T153947Z
DESCRIPTION:
DTSTART:20251205T090000Z
DTEND:20251205T110000Z
LOCATION:E1.3\, SR015
SUMMARY:Hci: Tutorial #6 (Cedric)
END:VEVENT
BEGIN:VEVENT
UID:32396633-3464-4931-b735-336632643162
DTSTAMP:20260425T153947Z
DESCRIPTION:
DTSTART:20251212T090000Z
DTEND:20251212T110000Z
LOCATION:E1.3\, SR015
SUMMARY:Hci: Tutorial #6 (Cedric)
END:VEVENT
BEGIN:VEVENT
UID:35353937-3162-4434-b536-363032316562
DTSTAMP:20260425T153947Z
DESCRIPTION:
DTSTART:20251219T090000Z
DTEND:20251219T110000Z
LOCATION:E1.3\, SR015
SUMMARY:Hci: Tutorial #6 (Cedric)
END:VEVENT
BEGIN:VEVENT
UID:31636666-6662-4066-a535-663761326632
DTSTAMP:20260425T153947Z
DESCRIPTION:
DTSTART:20260109T090000Z
DTEND:20260109T110000Z
LOCATION:E1.3\, SR015
SUMMARY:Hci: Tutorial #6 (Cedric)
END:VEVENT
BEGIN:VEVENT
UID:31313132-6435-4365-a332-303164316636
DTSTAMP:20260425T153947Z
DESCRIPTION:
DTSTART:20260116T090000Z
DTEND:20260116T110000Z
LOCATION:E1.3\, SR015
SUMMARY:Hci: Tutorial #6 (Cedric)
END:VEVENT
BEGIN:VEVENT
UID:32313063-3638-4666-b338-636433653662
DTSTAMP:20260425T153947Z
DESCRIPTION:
DTSTART:20260123T090000Z
DTEND:20260123T110000Z
LOCATION:E1.3\, SR015
SUMMARY:Hci: Tutorial #6 (Cedric)
END:VEVENT
BEGIN:VEVENT
UID:34366232-3735-4134-b730-303863393365
DTSTAMP:20260425T153947Z
DESCRIPTION:
DTSTART:20260130T090000Z
DTEND:20260130T110000Z
LOCATION:E1.3\, SR015
SUMMARY:Hci: Tutorial #6 (Cedric)
END:VEVENT
END:VCALENDAR
