BEGIN:VCALENDAR
VERSION:2.0
PRODID:-//134.96.226.213//NONSGML kigkonsult.se iCalcreator 2.41.92//
CALSCALE:GREGORIAN
METHOD:PUBLISH
UID:37656330-6338-4163-a465-623038643565
X-WR-CALNAME:Human Computer Interaction Calendar
X-WR-CALDESC:Events of the lecture Human Computer Interaction
X-WR-TIMEZONE:Europe/Berlin
BEGIN:VEVENT
UID:35313436-3231-4939-b266-323832633435
DTSTAMP:20260425T154052Z
DESCRIPTION:
DTSTART:20251031T090000Z
DTEND:20251031T110000Z
LOCATION:E1.3\, SR015
SUMMARY:Tutorial #6 (Cedric)
END:VEVENT
BEGIN:VEVENT
UID:35643035-6438-4035-a364-323437643865
DTSTAMP:20260425T154052Z
DESCRIPTION:
DTSTART:20251107T090000Z
DTEND:20251107T110000Z
LOCATION:E1.3\, SR015
SUMMARY:Tutorial #6 (Cedric)
END:VEVENT
BEGIN:VEVENT
UID:64643236-3237-4163-b762-666431323434
DTSTAMP:20260425T154052Z
DESCRIPTION:
DTSTART:20251114T090000Z
DTEND:20251114T110000Z
LOCATION:E1.3\, SR015
SUMMARY:Tutorial #6 (Cedric)
END:VEVENT
BEGIN:VEVENT
UID:36353066-3338-4164-b636-633432656164
DTSTAMP:20260425T154052Z
DESCRIPTION:
DTSTART:20251121T090000Z
DTEND:20251121T110000Z
LOCATION:E1.3\, SR015
SUMMARY:Tutorial #6 (Cedric)
END:VEVENT
BEGIN:VEVENT
UID:62313634-3732-4237-b436-656134333535
DTSTAMP:20260425T154052Z
DESCRIPTION:
DTSTART:20251128T090000Z
DTEND:20251128T110000Z
LOCATION:E1.3\, SR015
SUMMARY:Tutorial #6 (Cedric)
END:VEVENT
BEGIN:VEVENT
UID:37346236-3935-4366-a364-393337383435
DTSTAMP:20260425T154052Z
DESCRIPTION:
DTSTART:20251205T090000Z
DTEND:20251205T110000Z
LOCATION:E1.3\, SR015
SUMMARY:Tutorial #6 (Cedric)
END:VEVENT
BEGIN:VEVENT
UID:33313439-3935-4330-a536-383237616635
DTSTAMP:20260425T154052Z
DESCRIPTION:
DTSTART:20251212T090000Z
DTEND:20251212T110000Z
LOCATION:E1.3\, SR015
SUMMARY:Tutorial #6 (Cedric)
END:VEVENT
BEGIN:VEVENT
UID:34313938-3336-4632-a434-353632623762
DTSTAMP:20260425T154052Z
DESCRIPTION:
DTSTART:20251219T090000Z
DTEND:20251219T110000Z
LOCATION:E1.3\, SR015
SUMMARY:Tutorial #6 (Cedric)
END:VEVENT
BEGIN:VEVENT
UID:61666135-3163-4663-b633-306662633231
DTSTAMP:20260425T154052Z
DESCRIPTION:
DTSTART:20260109T090000Z
DTEND:20260109T110000Z
LOCATION:E1.3\, SR015
SUMMARY:Tutorial #6 (Cedric)
END:VEVENT
BEGIN:VEVENT
UID:31306362-3263-4034-a363-633638633335
DTSTAMP:20260425T154052Z
DESCRIPTION:
DTSTART:20260116T090000Z
DTEND:20260116T110000Z
LOCATION:E1.3\, SR015
SUMMARY:Tutorial #6 (Cedric)
END:VEVENT
BEGIN:VEVENT
UID:66626238-3166-4639-a238-633735333032
DTSTAMP:20260425T154052Z
DESCRIPTION:
DTSTART:20260123T090000Z
DTEND:20260123T110000Z
LOCATION:E1.3\, SR015
SUMMARY:Tutorial #6 (Cedric)
END:VEVENT
BEGIN:VEVENT
UID:34373464-3162-4739-a336-356563353663
DTSTAMP:20260425T154052Z
DESCRIPTION:
DTSTART:20260130T090000Z
DTEND:20260130T110000Z
LOCATION:E1.3\, SR015
SUMMARY:Tutorial #6 (Cedric)
END:VEVENT
END:VCALENDAR
