BEGIN:VCALENDAR
VERSION:2.0
PRODID:-//134.96.226.213//NONSGML kigkonsult.se iCalcreator 2.41.92//
CALSCALE:GREGORIAN
METHOD:PUBLISH
UID:37323237-3364-4930-b731-653464313661
X-WR-CALNAME:Human Computer Interaction Calendar
X-WR-CALDESC:Events of the lecture Human Computer Interaction
X-WR-TIMEZONE:Europe/Berlin
BEGIN:VEVENT
UID:33383565-3063-4436-a564-303635333439
DTSTAMP:20260425T170056Z
DESCRIPTION:
DTSTART:20251030T130000Z
DTEND:20251030T150000Z
LOCATION:E1.1\, SR106
SUMMARY:Hci: Tutorial #5 (Ritika)
END:VEVENT
BEGIN:VEVENT
UID:36636264-3164-4236-a464-396133323861
DTSTAMP:20260425T170056Z
DESCRIPTION:
DTSTART:20251106T130000Z
DTEND:20251106T150000Z
LOCATION:E1.1\, SR106
SUMMARY:Hci: Tutorial #5 (Ritika)
END:VEVENT
BEGIN:VEVENT
UID:63336638-3935-4231-b137-326132366364
DTSTAMP:20260425T170056Z
DESCRIPTION:
DTSTART:20251113T130000Z
DTEND:20251113T150000Z
LOCATION:E1.1\, SR106
SUMMARY:Hci: Tutorial #5 (Ritika)
END:VEVENT
BEGIN:VEVENT
UID:31366565-3635-4432-a638-313331653362
DTSTAMP:20260425T170056Z
DESCRIPTION:
DTSTART:20251120T130000Z
DTEND:20251120T150000Z
LOCATION:E1.1\, SR106
SUMMARY:Hci: Tutorial #5 (Ritika)
END:VEVENT
BEGIN:VEVENT
UID:37336264-6131-4636-a435-346536316130
DTSTAMP:20260425T170056Z
DESCRIPTION:
DTSTART:20251127T130000Z
DTEND:20251127T150000Z
LOCATION:E1.1\, SR106
SUMMARY:Hci: Tutorial #5 (Ritika)
END:VEVENT
BEGIN:VEVENT
UID:36663366-3036-4135-b836-666638623562
DTSTAMP:20260425T170056Z
DESCRIPTION:
DTSTART:20251204T130000Z
DTEND:20251204T150000Z
LOCATION:E1.1\, SR106
SUMMARY:Hci: Tutorial #5 (Ritika)
END:VEVENT
BEGIN:VEVENT
UID:61613734-3566-4439-b164-623864353763
DTSTAMP:20260425T170056Z
DESCRIPTION:
DTSTART:20251211T130000Z
DTEND:20251211T150000Z
LOCATION:E1.1\, SR106
SUMMARY:Hci: Tutorial #5 (Ritika)
END:VEVENT
BEGIN:VEVENT
UID:38613662-3862-4364-b335-636637376435
DTSTAMP:20260425T170056Z
DESCRIPTION:
DTSTART:20251218T130000Z
DTEND:20251218T150000Z
LOCATION:E1.1\, SR106
SUMMARY:Hci: Tutorial #5 (Ritika)
END:VEVENT
BEGIN:VEVENT
UID:38303230-3637-4335-b761-623566363733
DTSTAMP:20260425T170056Z
DESCRIPTION:
DTSTART:20260108T130000Z
DTEND:20260108T150000Z
LOCATION:E1.1\, SR106
SUMMARY:Hci: Tutorial #5 (Ritika)
END:VEVENT
BEGIN:VEVENT
UID:66633965-3733-4437-b536-626132343632
DTSTAMP:20260425T170056Z
DESCRIPTION:
DTSTART:20260115T130000Z
DTEND:20260115T150000Z
LOCATION:E1.1\, SR106
SUMMARY:Hci: Tutorial #5 (Ritika)
END:VEVENT
BEGIN:VEVENT
UID:61656562-6362-4666-b037-353865303965
DTSTAMP:20260425T170056Z
DESCRIPTION:
DTSTART:20260122T130000Z
DTEND:20260122T150000Z
LOCATION:E1.1\, SR106
SUMMARY:Hci: Tutorial #5 (Ritika)
END:VEVENT
BEGIN:VEVENT
UID:30396133-6636-4834-a238-393031646662
DTSTAMP:20260425T170056Z
DESCRIPTION:
DTSTART:20260129T130000Z
DTEND:20260129T150000Z
LOCATION:E1.1\, SR106
SUMMARY:Hci: Tutorial #5 (Ritika)
END:VEVENT
END:VCALENDAR
