BEGIN:VCALENDAR
VERSION:2.0
PRODID:-//134.96.226.213//NONSGML kigkonsult.se iCalcreator 2.41.92//
CALSCALE:GREGORIAN
METHOD:PUBLISH
UID:62333531-3831-4831-b765-363964666565
X-WR-CALNAME:Human Computer Interaction Calendar
X-WR-CALDESC:Events of the lecture Human Computer Interaction
X-WR-TIMEZONE:Europe/Berlin
BEGIN:VEVENT
UID:36396533-6430-4535-b633-653362313433
DTSTAMP:20260425T153948Z
DESCRIPTION:
DTSTART:20251030T130000Z
DTEND:20251030T150000Z
LOCATION:E1.1\, SR106
SUMMARY:Tutorial #5 (Ritika)
END:VEVENT
BEGIN:VEVENT
UID:38363563-3031-4938-a335-663631653136
DTSTAMP:20260425T153948Z
DESCRIPTION:
DTSTART:20251106T130000Z
DTEND:20251106T150000Z
LOCATION:E1.1\, SR106
SUMMARY:Tutorial #5 (Ritika)
END:VEVENT
BEGIN:VEVENT
UID:31333765-6561-4037-b964-313162373331
DTSTAMP:20260425T153948Z
DESCRIPTION:
DTSTART:20251113T130000Z
DTEND:20251113T150000Z
LOCATION:E1.1\, SR106
SUMMARY:Tutorial #5 (Ritika)
END:VEVENT
BEGIN:VEVENT
UID:36386365-3835-4437-a437-306635636337
DTSTAMP:20260425T153948Z
DESCRIPTION:
DTSTART:20251120T130000Z
DTEND:20251120T150000Z
LOCATION:E1.1\, SR106
SUMMARY:Tutorial #5 (Ritika)
END:VEVENT
BEGIN:VEVENT
UID:30626539-3637-4430-a630-313631346632
DTSTAMP:20260425T153948Z
DESCRIPTION:
DTSTART:20251127T130000Z
DTEND:20251127T150000Z
LOCATION:E1.1\, SR106
SUMMARY:Tutorial #5 (Ritika)
END:VEVENT
BEGIN:VEVENT
UID:38396435-6565-4236-a635-636564636534
DTSTAMP:20260425T153948Z
DESCRIPTION:
DTSTART:20251204T130000Z
DTEND:20251204T150000Z
LOCATION:E1.1\, SR106
SUMMARY:Tutorial #5 (Ritika)
END:VEVENT
BEGIN:VEVENT
UID:61373035-3839-4563-b634-343330346666
DTSTAMP:20260425T153948Z
DESCRIPTION:
DTSTART:20251211T130000Z
DTEND:20251211T150000Z
LOCATION:E1.1\, SR106
SUMMARY:Tutorial #5 (Ritika)
END:VEVENT
BEGIN:VEVENT
UID:63646531-6365-4430-b264-646432393432
DTSTAMP:20260425T153948Z
DESCRIPTION:
DTSTART:20251218T130000Z
DTEND:20251218T150000Z
LOCATION:E1.1\, SR106
SUMMARY:Tutorial #5 (Ritika)
END:VEVENT
BEGIN:VEVENT
UID:38383734-3331-4362-b263-393564353437
DTSTAMP:20260425T153948Z
DESCRIPTION:
DTSTART:20260108T130000Z
DTEND:20260108T150000Z
LOCATION:E1.1\, SR106
SUMMARY:Tutorial #5 (Ritika)
END:VEVENT
BEGIN:VEVENT
UID:36666136-6439-4532-b331-363432393533
DTSTAMP:20260425T153948Z
DESCRIPTION:
DTSTART:20260115T130000Z
DTEND:20260115T150000Z
LOCATION:E1.1\, SR106
SUMMARY:Tutorial #5 (Ritika)
END:VEVENT
BEGIN:VEVENT
UID:31313062-6565-4139-b131-623135656361
DTSTAMP:20260425T153948Z
DESCRIPTION:
DTSTART:20260122T130000Z
DTEND:20260122T150000Z
LOCATION:E1.1\, SR106
SUMMARY:Tutorial #5 (Ritika)
END:VEVENT
BEGIN:VEVENT
UID:34633630-3534-4134-a338-306662663735
DTSTAMP:20260425T153948Z
DESCRIPTION:
DTSTART:20260129T130000Z
DTEND:20260129T150000Z
LOCATION:E1.1\, SR106
SUMMARY:Tutorial #5 (Ritika)
END:VEVENT
END:VCALENDAR
