BEGIN:VCALENDAR
VERSION:2.0
PRODID:-//134.96.226.213//NONSGML kigkonsult.se iCalcreator 2.41.92//
CALSCALE:GREGORIAN
METHOD:PUBLISH
UID:39646364-3963-4834-a330-633461386336
X-WR-CALNAME:Human Computer Interaction Calendar
X-WR-CALDESC:Events of the lecture Human Computer Interaction
X-WR-TIMEZONE:Europe/Berlin
BEGIN:VEVENT
UID:61326532-3436-4635-a233-653364663134
DTSTAMP:20260425T170056Z
DESCRIPTION:
DTSTART:20251030T110000Z
DTEND:20251030T130000Z
LOCATION:E1.1\, SR106
SUMMARY:Hci: Tutorial #4 (Sophie)
END:VEVENT
BEGIN:VEVENT
UID:64393932-3263-4563-b065-376337366161
DTSTAMP:20260425T170056Z
DESCRIPTION:
DTSTART:20251106T110000Z
DTEND:20251106T130000Z
LOCATION:E1.1\, SR106
SUMMARY:Hci: Tutorial #4 (Sophie)
END:VEVENT
BEGIN:VEVENT
UID:65663265-3635-4464-b261-336663303530
DTSTAMP:20260425T170056Z
DESCRIPTION:
DTSTART:20251113T110000Z
DTEND:20251113T130000Z
LOCATION:E1.1\, SR106
SUMMARY:Hci: Tutorial #4 (Sophie)
END:VEVENT
BEGIN:VEVENT
UID:30373031-3836-4133-b263-363865653065
DTSTAMP:20260425T170056Z
DESCRIPTION:
DTSTART:20251120T110000Z
DTEND:20251120T130000Z
LOCATION:E1.1\, SR106
SUMMARY:Hci: Tutorial #4 (Sophie)
END:VEVENT
BEGIN:VEVENT
UID:62383965-3630-4163-a662-653035656265
DTSTAMP:20260425T170056Z
DESCRIPTION:
DTSTART:20251127T110000Z
DTEND:20251127T130000Z
LOCATION:E1.1\, SR106
SUMMARY:Hci: Tutorial #4 (Sophie)
END:VEVENT
BEGIN:VEVENT
UID:32643239-6366-4334-b066-633064633937
DTSTAMP:20260425T170056Z
DESCRIPTION:
DTSTART:20251204T110000Z
DTEND:20251204T130000Z
LOCATION:E1.1\, SR106
SUMMARY:Hci: Tutorial #4 (Sophie)
END:VEVENT
BEGIN:VEVENT
UID:63393932-6234-4331-a634-613362643134
DTSTAMP:20260425T170056Z
DESCRIPTION:
DTSTART:20251211T110000Z
DTEND:20251211T130000Z
LOCATION:E1.1\, SR106
SUMMARY:Hci: Tutorial #4 (Sophie)
END:VEVENT
BEGIN:VEVENT
UID:32383430-6433-4733-b131-386365636634
DTSTAMP:20260425T170056Z
DESCRIPTION:
DTSTART:20251218T110000Z
DTEND:20251218T130000Z
LOCATION:E1.1\, SR106
SUMMARY:Hci: Tutorial #4 (Sophie)
END:VEVENT
BEGIN:VEVENT
UID:33373662-6633-4832-b232-646336666265
DTSTAMP:20260425T170056Z
DESCRIPTION:
DTSTART:20260108T110000Z
DTEND:20260108T130000Z
LOCATION:E1.1\, SR106
SUMMARY:Hci: Tutorial #4 (Sophie)
END:VEVENT
BEGIN:VEVENT
UID:65386435-3731-4737-a331-313131386262
DTSTAMP:20260425T170056Z
DESCRIPTION:
DTSTART:20260115T110000Z
DTEND:20260115T130000Z
LOCATION:E1.1\, SR106
SUMMARY:Hci: Tutorial #4 (Sophie)
END:VEVENT
BEGIN:VEVENT
UID:62386364-3639-4364-b638-623134303433
DTSTAMP:20260425T170056Z
DESCRIPTION:
DTSTART:20260122T110000Z
DTEND:20260122T130000Z
LOCATION:E1.1\, SR106
SUMMARY:Hci: Tutorial #4 (Sophie)
END:VEVENT
BEGIN:VEVENT
UID:31313937-3539-4935-b136-323032326464
DTSTAMP:20260425T170056Z
DESCRIPTION:
DTSTART:20260129T110000Z
DTEND:20260129T130000Z
LOCATION:E1.1\, SR106
SUMMARY:Hci: Tutorial #4 (Sophie)
END:VEVENT
END:VCALENDAR
