BEGIN:VCALENDAR
VERSION:2.0
PRODID:-//134.96.226.213//NONSGML kigkonsult.se iCalcreator 2.41.92//
CALSCALE:GREGORIAN
METHOD:PUBLISH
UID:37656434-3837-4139-b163-333563616563
X-WR-CALNAME:Human Computer Interaction Calendar
X-WR-CALDESC:Events of the lecture Human Computer Interaction
X-WR-TIMEZONE:Europe/Berlin
BEGIN:VEVENT
UID:61353731-3437-4239-b238-346663386537
DTSTAMP:20260425T154052Z
DESCRIPTION:
DTSTART:20251030T110000Z
DTEND:20251030T130000Z
LOCATION:E1.1\, SR106
SUMMARY:Tutorial #4 (Sophie)
END:VEVENT
BEGIN:VEVENT
UID:64643439-6639-4538-a662-646436613639
DTSTAMP:20260425T154052Z
DESCRIPTION:
DTSTART:20251106T110000Z
DTEND:20251106T130000Z
LOCATION:E1.1\, SR106
SUMMARY:Tutorial #4 (Sophie)
END:VEVENT
BEGIN:VEVENT
UID:65363431-6332-4635-a635-376534393036
DTSTAMP:20260425T154052Z
DESCRIPTION:
DTSTART:20251113T110000Z
DTEND:20251113T130000Z
LOCATION:E1.1\, SR106
SUMMARY:Tutorial #4 (Sophie)
END:VEVENT
BEGIN:VEVENT
UID:37313163-6530-4238-b137-386666336134
DTSTAMP:20260425T154052Z
DESCRIPTION:
DTSTART:20251120T110000Z
DTEND:20251120T130000Z
LOCATION:E1.1\, SR106
SUMMARY:Tutorial #4 (Sophie)
END:VEVENT
BEGIN:VEVENT
UID:36343937-6137-4933-b766-633131353037
DTSTAMP:20260425T154052Z
DESCRIPTION:
DTSTART:20251127T110000Z
DTEND:20251127T130000Z
LOCATION:E1.1\, SR106
SUMMARY:Tutorial #4 (Sophie)
END:VEVENT
BEGIN:VEVENT
UID:38646536-3161-4866-a661-306631356235
DTSTAMP:20260425T154052Z
DESCRIPTION:
DTSTART:20251204T110000Z
DTEND:20251204T130000Z
LOCATION:E1.1\, SR106
SUMMARY:Tutorial #4 (Sophie)
END:VEVENT
BEGIN:VEVENT
UID:61633661-3061-4239-b833-396134373038
DTSTAMP:20260425T154052Z
DESCRIPTION:
DTSTART:20251211T110000Z
DTEND:20251211T130000Z
LOCATION:E1.1\, SR106
SUMMARY:Tutorial #4 (Sophie)
END:VEVENT
BEGIN:VEVENT
UID:61353664-3561-4632-b237-323131313465
DTSTAMP:20260425T154052Z
DESCRIPTION:
DTSTART:20251218T110000Z
DTEND:20251218T130000Z
LOCATION:E1.1\, SR106
SUMMARY:Tutorial #4 (Sophie)
END:VEVENT
BEGIN:VEVENT
UID:31646365-3862-4563-b538-316365306564
DTSTAMP:20260425T154052Z
DESCRIPTION:
DTSTART:20260108T110000Z
DTEND:20260108T130000Z
LOCATION:E1.1\, SR106
SUMMARY:Tutorial #4 (Sophie)
END:VEVENT
BEGIN:VEVENT
UID:31643566-3864-4832-b734-363263306231
DTSTAMP:20260425T154052Z
DESCRIPTION:
DTSTART:20260115T110000Z
DTEND:20260115T130000Z
LOCATION:E1.1\, SR106
SUMMARY:Tutorial #4 (Sophie)
END:VEVENT
BEGIN:VEVENT
UID:32303933-3736-4563-b536-623065616538
DTSTAMP:20260425T154052Z
DESCRIPTION:
DTSTART:20260122T110000Z
DTEND:20260122T130000Z
LOCATION:E1.1\, SR106
SUMMARY:Tutorial #4 (Sophie)
END:VEVENT
BEGIN:VEVENT
UID:37396662-3632-4334-b430-356338323162
DTSTAMP:20260425T154052Z
DESCRIPTION:
DTSTART:20260129T110000Z
DTEND:20260129T130000Z
LOCATION:E1.1\, SR106
SUMMARY:Tutorial #4 (Sophie)
END:VEVENT
END:VCALENDAR
