BEGIN:VCALENDAR
VERSION:2.0
PRODID:-//134.96.226.213//NONSGML kigkonsult.se iCalcreator 2.41.92//
CALSCALE:GREGORIAN
METHOD:PUBLISH
UID:34373364-6432-4732-b261-656437323664
X-WR-CALNAME:Human Computer Interaction Calendar
X-WR-CALDESC:Events of the lecture Human Computer Interaction
X-WR-TIMEZONE:Europe/Berlin
BEGIN:VEVENT
UID:35323331-3033-4136-b665-646435393338
DTSTAMP:20260425T170058Z
DESCRIPTION:
DTSTART:20251030T110000Z
DTEND:20251030T130000Z
LOCATION:E1.1\, SR206
SUMMARY:Hci: Tutorial #3 (Chandana)
END:VEVENT
BEGIN:VEVENT
UID:62623463-3761-4163-b130-633936373030
DTSTAMP:20260425T170058Z
DESCRIPTION:
DTSTART:20251106T110000Z
DTEND:20251106T130000Z
LOCATION:E1.1\, SR206
SUMMARY:Hci: Tutorial #3 (Chandana)
END:VEVENT
BEGIN:VEVENT
UID:66663964-3736-4263-a130-356639666661
DTSTAMP:20260425T170058Z
DESCRIPTION:
DTSTART:20251113T110000Z
DTEND:20251113T130000Z
LOCATION:E1.1\, SR206
SUMMARY:Hci: Tutorial #3 (Chandana)
END:VEVENT
BEGIN:VEVENT
UID:30623235-3161-4363-a462-633330333238
DTSTAMP:20260425T170058Z
DESCRIPTION:
DTSTART:20251120T110000Z
DTEND:20251120T130000Z
LOCATION:E1.1\, SR206
SUMMARY:Hci: Tutorial #3 (Chandana)
END:VEVENT
BEGIN:VEVENT
UID:35633830-3361-4161-a332-353037363233
DTSTAMP:20260425T170058Z
DESCRIPTION:
DTSTART:20251127T110000Z
DTEND:20251127T130000Z
LOCATION:E1.1\, SR206
SUMMARY:Hci: Tutorial #3 (Chandana)
END:VEVENT
BEGIN:VEVENT
UID:33303632-3765-4636-b134-646132376432
DTSTAMP:20260425T170058Z
DESCRIPTION:
DTSTART:20251204T110000Z
DTEND:20251204T130000Z
LOCATION:E1.1\, SR206
SUMMARY:Hci: Tutorial #3 (Chandana)
END:VEVENT
BEGIN:VEVENT
UID:34626164-3466-4537-a133-623436376465
DTSTAMP:20260425T170058Z
DESCRIPTION:
DTSTART:20251211T110000Z
DTEND:20251211T130000Z
LOCATION:E1.1\, SR206
SUMMARY:Hci: Tutorial #3 (Chandana)
END:VEVENT
BEGIN:VEVENT
UID:30323235-3434-4662-b764-323630326136
DTSTAMP:20260425T170058Z
DESCRIPTION:
DTSTART:20251218T110000Z
DTEND:20251218T130000Z
LOCATION:E1.1\, SR206
SUMMARY:Hci: Tutorial #3 (Chandana)
END:VEVENT
BEGIN:VEVENT
UID:61613663-3562-4738-a637-376236336239
DTSTAMP:20260425T170058Z
DESCRIPTION:
DTSTART:20260108T110000Z
DTEND:20260108T130000Z
LOCATION:E1.1\, SR206
SUMMARY:Hci: Tutorial #3 (Chandana)
END:VEVENT
BEGIN:VEVENT
UID:63313833-3162-4234-a237-646464323639
DTSTAMP:20260425T170058Z
DESCRIPTION:
DTSTART:20260115T110000Z
DTEND:20260115T130000Z
LOCATION:E1.1\, SR206
SUMMARY:Hci: Tutorial #3 (Chandana)
END:VEVENT
BEGIN:VEVENT
UID:35616163-3631-4134-a233-663932623337
DTSTAMP:20260425T170058Z
DESCRIPTION:
DTSTART:20260122T110000Z
DTEND:20260122T130000Z
LOCATION:E1.1\, SR206
SUMMARY:Hci: Tutorial #3 (Chandana)
END:VEVENT
BEGIN:VEVENT
UID:36356339-3761-4931-b336-373564323734
DTSTAMP:20260425T170058Z
DESCRIPTION:
DTSTART:20260129T110000Z
DTEND:20260129T130000Z
LOCATION:E1.1\, SR206
SUMMARY:Hci: Tutorial #3 (Chandana)
END:VEVENT
END:VCALENDAR
