BEGIN:VCALENDAR
VERSION:2.0
PRODID:-//134.96.226.213//NONSGML kigkonsult.se iCalcreator 2.41.92//
CALSCALE:GREGORIAN
METHOD:PUBLISH
UID:38363438-3631-4465-b235-323264303237
X-WR-CALNAME:Human Computer Interaction Calendar
X-WR-CALDESC:Events of the lecture Human Computer Interaction
X-WR-TIMEZONE:Europe/Berlin
BEGIN:VEVENT
UID:36333338-3132-4737-b533-373138353538
DTSTAMP:20260425T154053Z
DESCRIPTION:
DTSTART:20251030T110000Z
DTEND:20251030T130000Z
LOCATION:E1.1\, SR206
SUMMARY:Tutorial #3 (Chandana)
END:VEVENT
BEGIN:VEVENT
UID:33376233-6535-4839-b932-356132396439
DTSTAMP:20260425T154053Z
DESCRIPTION:
DTSTART:20251106T110000Z
DTEND:20251106T130000Z
LOCATION:E1.1\, SR206
SUMMARY:Tutorial #3 (Chandana)
END:VEVENT
BEGIN:VEVENT
UID:32393934-3232-4632-a639-353164383038
DTSTAMP:20260425T154053Z
DESCRIPTION:
DTSTART:20251113T110000Z
DTEND:20251113T130000Z
LOCATION:E1.1\, SR206
SUMMARY:Tutorial #3 (Chandana)
END:VEVENT
BEGIN:VEVENT
UID:37343539-6139-4034-a666-646538373466
DTSTAMP:20260425T154053Z
DESCRIPTION:
DTSTART:20251120T110000Z
DTEND:20251120T130000Z
LOCATION:E1.1\, SR206
SUMMARY:Tutorial #3 (Chandana)
END:VEVENT
BEGIN:VEVENT
UID:64373033-3166-4463-b436-393637303131
DTSTAMP:20260425T154053Z
DESCRIPTION:
DTSTART:20251127T110000Z
DTEND:20251127T130000Z
LOCATION:E1.1\, SR206
SUMMARY:Tutorial #3 (Chandana)
END:VEVENT
BEGIN:VEVENT
UID:63346663-6634-4530-b963-386137646536
DTSTAMP:20260425T154053Z
DESCRIPTION:
DTSTART:20251204T110000Z
DTEND:20251204T130000Z
LOCATION:E1.1\, SR206
SUMMARY:Tutorial #3 (Chandana)
END:VEVENT
BEGIN:VEVENT
UID:32653161-3535-4637-a532-636636303134
DTSTAMP:20260425T154053Z
DESCRIPTION:
DTSTART:20251211T110000Z
DTEND:20251211T130000Z
LOCATION:E1.1\, SR206
SUMMARY:Tutorial #3 (Chandana)
END:VEVENT
BEGIN:VEVENT
UID:36643036-3739-4761-b039-393538353533
DTSTAMP:20260425T154053Z
DESCRIPTION:
DTSTART:20251218T110000Z
DTEND:20251218T130000Z
LOCATION:E1.1\, SR206
SUMMARY:Tutorial #3 (Chandana)
END:VEVENT
BEGIN:VEVENT
UID:63653562-3064-4165-a566-346365653463
DTSTAMP:20260425T154053Z
DESCRIPTION:
DTSTART:20260108T110000Z
DTEND:20260108T130000Z
LOCATION:E1.1\, SR206
SUMMARY:Tutorial #3 (Chandana)
END:VEVENT
BEGIN:VEVENT
UID:37343461-3362-4565-b266-376439653165
DTSTAMP:20260425T154053Z
DESCRIPTION:
DTSTART:20260115T110000Z
DTEND:20260115T130000Z
LOCATION:E1.1\, SR206
SUMMARY:Tutorial #3 (Chandana)
END:VEVENT
BEGIN:VEVENT
UID:65366266-3634-4162-a333-313533613661
DTSTAMP:20260425T154053Z
DESCRIPTION:
DTSTART:20260122T110000Z
DTEND:20260122T130000Z
LOCATION:E1.1\, SR206
SUMMARY:Tutorial #3 (Chandana)
END:VEVENT
BEGIN:VEVENT
UID:36383637-3037-4863-a236-656439363430
DTSTAMP:20260425T154053Z
DESCRIPTION:
DTSTART:20260129T110000Z
DTEND:20260129T130000Z
LOCATION:E1.1\, SR206
SUMMARY:Tutorial #3 (Chandana)
END:VEVENT
END:VCALENDAR
