BEGIN:VCALENDAR
VERSION:2.0
PRODID:-//134.96.226.213//NONSGML kigkonsult.se iCalcreator 2.41.92//
CALSCALE:GREGORIAN
METHOD:PUBLISH
UID:32613135-6331-4335-b134-383336363765
X-WR-CALNAME:Human Computer Interaction Calendar
X-WR-CALDESC:Events of the lecture Human Computer Interaction
X-WR-TIMEZONE:Europe/Berlin
BEGIN:VEVENT
UID:36343233-3630-4237-a533-393562363035
DTSTAMP:20260425T154040Z
DESCRIPTION:
DTSTART:20251031T150000Z
DTEND:20251031T170000Z
LOCATION:E1.3\, SR015
SUMMARY:Hci: Tutorial #9 (Arsenii)
END:VEVENT
BEGIN:VEVENT
UID:37333833-3361-4730-b532-383231343364
DTSTAMP:20260425T154040Z
DESCRIPTION:
DTSTART:20251107T150000Z
DTEND:20251107T170000Z
LOCATION:E1.3\, SR015
SUMMARY:Hci: Tutorial #9 (Arsenii)
END:VEVENT
BEGIN:VEVENT
UID:30386430-6331-4363-a630-626661616364
DTSTAMP:20260425T154040Z
DESCRIPTION:
DTSTART:20251114T150000Z
DTEND:20251114T170000Z
LOCATION:E1.3\, SR015
SUMMARY:Hci: Tutorial #9 (Arsenii)
END:VEVENT
BEGIN:VEVENT
UID:61396136-3635-4265-b633-393035306462
DTSTAMP:20260425T154040Z
DESCRIPTION:
DTSTART:20251121T150000Z
DTEND:20251121T170000Z
LOCATION:E1.3\, SR015
SUMMARY:Hci: Tutorial #9 (Arsenii)
END:VEVENT
BEGIN:VEVENT
UID:31656565-3032-4263-b236-343361343639
DTSTAMP:20260425T154040Z
DESCRIPTION:
DTSTART:20251128T150000Z
DTEND:20251128T170000Z
LOCATION:E1.3\, SR015
SUMMARY:Hci: Tutorial #9 (Arsenii)
END:VEVENT
BEGIN:VEVENT
UID:64643234-6161-4265-a332-616666636264
DTSTAMP:20260425T154040Z
DESCRIPTION:
DTSTART:20251205T150000Z
DTEND:20251205T170000Z
LOCATION:E1.3\, SR015
SUMMARY:Hci: Tutorial #9 (Arsenii)
END:VEVENT
BEGIN:VEVENT
UID:61343830-3339-4762-b835-326662303735
DTSTAMP:20260425T154040Z
DESCRIPTION:
DTSTART:20251212T150000Z
DTEND:20251212T170000Z
LOCATION:E1.3\, SR015
SUMMARY:Hci: Tutorial #9 (Arsenii)
END:VEVENT
BEGIN:VEVENT
UID:64313635-6332-4636-a362-313766646538
DTSTAMP:20260425T154040Z
DESCRIPTION:
DTSTART:20251219T150000Z
DTEND:20251219T170000Z
LOCATION:E1.3\, SR015
SUMMARY:Hci: Tutorial #9 (Arsenii)
END:VEVENT
BEGIN:VEVENT
UID:39363834-3133-4634-b736-373138323263
DTSTAMP:20260425T154040Z
DESCRIPTION:
DTSTART:20260109T150000Z
DTEND:20260109T170000Z
LOCATION:E1.3\, SR015
SUMMARY:Hci: Tutorial #9 (Arsenii)
END:VEVENT
BEGIN:VEVENT
UID:38383031-6239-4630-a635-636566343561
DTSTAMP:20260425T154040Z
DESCRIPTION:
DTSTART:20260116T150000Z
DTEND:20260116T170000Z
LOCATION:E1.3\, SR015
SUMMARY:Hci: Tutorial #9 (Arsenii)
END:VEVENT
BEGIN:VEVENT
UID:34333539-3666-4665-b034-346564353731
DTSTAMP:20260425T154040Z
DESCRIPTION:
DTSTART:20260123T150000Z
DTEND:20260123T170000Z
LOCATION:E1.3\, SR015
SUMMARY:Hci: Tutorial #9 (Arsenii)
END:VEVENT
BEGIN:VEVENT
UID:36353734-3332-4039-a530-636134376431
DTSTAMP:20260425T154040Z
DESCRIPTION:
DTSTART:20260130T150000Z
DTEND:20260130T170000Z
LOCATION:E1.3\, SR015
SUMMARY:Hci: Tutorial #9 (Arsenii)
END:VEVENT
END:VCALENDAR
