BEGIN:VCALENDAR
VERSION:2.0
PRODID:-//134.96.226.213//NONSGML kigkonsult.se iCalcreator 2.41.92//
CALSCALE:GREGORIAN
METHOD:PUBLISH
UID:31663931-6337-4366-a137-343365316163
X-WR-CALNAME:Human Computer Interaction Calendar
X-WR-CALDESC:Events of the lecture Human Computer Interaction
X-WR-TIMEZONE:Europe/Berlin
BEGIN:VEVENT
UID:31643938-3932-4164-a164-373664316661
DTSTAMP:20260425T153944Z
DESCRIPTION:
DTSTART:20251031T150000Z
DTEND:20251031T170000Z
LOCATION:E1.3\, SR015
SUMMARY:Tutorial #9 (Arsenii)
END:VEVENT
BEGIN:VEVENT
UID:33306362-3933-4966-b835-303933366563
DTSTAMP:20260425T153944Z
DESCRIPTION:
DTSTART:20251107T150000Z
DTEND:20251107T170000Z
LOCATION:E1.3\, SR015
SUMMARY:Tutorial #9 (Arsenii)
END:VEVENT
BEGIN:VEVENT
UID:38656135-6365-4664-b861-333766633163
DTSTAMP:20260425T153944Z
DESCRIPTION:
DTSTART:20251114T150000Z
DTEND:20251114T170000Z
LOCATION:E1.3\, SR015
SUMMARY:Tutorial #9 (Arsenii)
END:VEVENT
BEGIN:VEVENT
UID:39656361-3337-4531-b836-336534613632
DTSTAMP:20260425T153944Z
DESCRIPTION:
DTSTART:20251121T150000Z
DTEND:20251121T170000Z
LOCATION:E1.3\, SR015
SUMMARY:Tutorial #9 (Arsenii)
END:VEVENT
BEGIN:VEVENT
UID:66333032-3162-4030-a163-373035316233
DTSTAMP:20260425T153944Z
DESCRIPTION:
DTSTART:20251128T150000Z
DTEND:20251128T170000Z
LOCATION:E1.3\, SR015
SUMMARY:Tutorial #9 (Arsenii)
END:VEVENT
BEGIN:VEVENT
UID:35343563-6635-4834-b336-333035373835
DTSTAMP:20260425T153944Z
DESCRIPTION:
DTSTART:20251205T150000Z
DTEND:20251205T170000Z
LOCATION:E1.3\, SR015
SUMMARY:Tutorial #9 (Arsenii)
END:VEVENT
BEGIN:VEVENT
UID:61303639-6137-4330-b431-333034643664
DTSTAMP:20260425T153944Z
DESCRIPTION:
DTSTART:20251212T150000Z
DTEND:20251212T170000Z
LOCATION:E1.3\, SR015
SUMMARY:Tutorial #9 (Arsenii)
END:VEVENT
BEGIN:VEVENT
UID:61356264-3738-4134-b632-386564373261
DTSTAMP:20260425T153944Z
DESCRIPTION:
DTSTART:20251219T150000Z
DTEND:20251219T170000Z
LOCATION:E1.3\, SR015
SUMMARY:Tutorial #9 (Arsenii)
END:VEVENT
BEGIN:VEVENT
UID:36626562-6130-4134-a639-376133333133
DTSTAMP:20260425T153944Z
DESCRIPTION:
DTSTART:20260109T150000Z
DTEND:20260109T170000Z
LOCATION:E1.3\, SR015
SUMMARY:Tutorial #9 (Arsenii)
END:VEVENT
BEGIN:VEVENT
UID:38313334-3661-4666-b434-366433363761
DTSTAMP:20260425T153944Z
DESCRIPTION:
DTSTART:20260116T150000Z
DTEND:20260116T170000Z
LOCATION:E1.3\, SR015
SUMMARY:Tutorial #9 (Arsenii)
END:VEVENT
BEGIN:VEVENT
UID:65313763-3763-4361-a665-643936616239
DTSTAMP:20260425T153944Z
DESCRIPTION:
DTSTART:20260123T150000Z
DTEND:20260123T170000Z
LOCATION:E1.3\, SR015
SUMMARY:Tutorial #9 (Arsenii)
END:VEVENT
BEGIN:VEVENT
UID:32646238-3662-4135-a230-636133353939
DTSTAMP:20260425T153944Z
DESCRIPTION:
DTSTART:20260130T150000Z
DTEND:20260130T170000Z
LOCATION:E1.3\, SR015
SUMMARY:Tutorial #9 (Arsenii)
END:VEVENT
END:VCALENDAR
