BEGIN:VCALENDAR
VERSION:2.0
PRODID:-//134.96.226.213//NONSGML kigkonsult.se iCalcreator 2.41.92//
CALSCALE:GREGORIAN
METHOD:PUBLISH
UID:32303030-6163-4630-a531-396433623331
X-WR-CALNAME:Human Computer Interaction Calendar
X-WR-CALDESC:Events of the lecture Human Computer Interaction
X-WR-TIMEZONE:Europe/Berlin
BEGIN:VEVENT
UID:33383662-6139-4162-b732-623238353166
DTSTAMP:20260425T154042Z
DESCRIPTION:
DTSTART:20251031T110000Z
DTEND:20251031T130000Z
LOCATION:E1.3\, SR015
SUMMARY:Hci: Tutorial #8 (Ahmed)
END:VEVENT
BEGIN:VEVENT
UID:62653262-3334-4533-a135-646133663866
DTSTAMP:20260425T154042Z
DESCRIPTION:
DTSTART:20251107T110000Z
DTEND:20251107T130000Z
LOCATION:E1.3\, SR015
SUMMARY:Hci: Tutorial #8 (Ahmed)
END:VEVENT
BEGIN:VEVENT
UID:34666432-6566-4331-b732-396630343337
DTSTAMP:20260425T154042Z
DESCRIPTION:
DTSTART:20251114T110000Z
DTEND:20251114T130000Z
LOCATION:E1.3\, SR015
SUMMARY:Hci: Tutorial #8 (Ahmed)
END:VEVENT
BEGIN:VEVENT
UID:61613631-3337-4135-a139-646339346236
DTSTAMP:20260425T154042Z
DESCRIPTION:
DTSTART:20251121T110000Z
DTEND:20251121T130000Z
LOCATION:E1.3\, SR015
SUMMARY:Hci: Tutorial #8 (Ahmed)
END:VEVENT
BEGIN:VEVENT
UID:35633163-6231-4231-b134-343033633131
DTSTAMP:20260425T154042Z
DESCRIPTION:
DTSTART:20251128T110000Z
DTEND:20251128T130000Z
LOCATION:E1.3\, SR015
SUMMARY:Hci: Tutorial #8 (Ahmed)
END:VEVENT
BEGIN:VEVENT
UID:37643837-6335-4237-b763-393238336666
DTSTAMP:20260425T154042Z
DESCRIPTION:
DTSTART:20251205T110000Z
DTEND:20251205T130000Z
LOCATION:E1.3\, SR015
SUMMARY:Hci: Tutorial #8 (Ahmed)
END:VEVENT
BEGIN:VEVENT
UID:33343638-3233-4235-a532-636661373737
DTSTAMP:20260425T154042Z
DESCRIPTION:
DTSTART:20251212T110000Z
DTEND:20251212T130000Z
LOCATION:E1.3\, SR015
SUMMARY:Hci: Tutorial #8 (Ahmed)
END:VEVENT
BEGIN:VEVENT
UID:37383535-3136-4231-b732-323239366661
DTSTAMP:20260425T154042Z
DESCRIPTION:
DTSTART:20251219T110000Z
DTEND:20251219T130000Z
LOCATION:E1.3\, SR015
SUMMARY:Hci: Tutorial #8 (Ahmed)
END:VEVENT
BEGIN:VEVENT
UID:66386338-3364-4364-b435-343264663135
DTSTAMP:20260425T154042Z
DESCRIPTION:
DTSTART:20260109T110000Z
DTEND:20260109T130000Z
LOCATION:E1.3\, SR015
SUMMARY:Hci: Tutorial #8 (Ahmed)
END:VEVENT
BEGIN:VEVENT
UID:36306332-6464-4461-b238-306163373464
DTSTAMP:20260425T154042Z
DESCRIPTION:
DTSTART:20260116T110000Z
DTEND:20260116T130000Z
LOCATION:E1.3\, SR015
SUMMARY:Hci: Tutorial #8 (Ahmed)
END:VEVENT
BEGIN:VEVENT
UID:39636431-3365-4561-b865-386137303065
DTSTAMP:20260425T154042Z
DESCRIPTION:
DTSTART:20260123T110000Z
DTEND:20260123T130000Z
LOCATION:E1.3\, SR015
SUMMARY:Hci: Tutorial #8 (Ahmed)
END:VEVENT
BEGIN:VEVENT
UID:37336236-3266-4863-a534-373064656362
DTSTAMP:20260425T154042Z
DESCRIPTION:
DTSTART:20260130T110000Z
DTEND:20260130T130000Z
LOCATION:E1.3\, SR015
SUMMARY:Hci: Tutorial #8 (Ahmed)
END:VEVENT
END:VCALENDAR
