BEGIN:VCALENDAR
VERSION:2.0
PRODID:-//134.96.226.213//NONSGML kigkonsult.se iCalcreator 2.41.92//
CALSCALE:GREGORIAN
METHOD:PUBLISH
UID:37316362-3639-4239-a237-353431613465
X-WR-CALNAME:Human Computer Interaction Calendar
X-WR-CALDESC:Events of the lecture Human Computer Interaction
X-WR-TIMEZONE:Europe/Berlin
BEGIN:VEVENT
UID:38353764-6264-4439-b531-343834343637
DTSTAMP:20260425T170058Z
DESCRIPTION:
DTSTART:20251031T110000Z
DTEND:20251031T130000Z
LOCATION:E1.3\, SR015
SUMMARY:Tutorial #8 (Ahmed)
END:VEVENT
BEGIN:VEVENT
UID:30616364-6134-4436-a437-366430383532
DTSTAMP:20260425T170058Z
DESCRIPTION:
DTSTART:20251107T110000Z
DTEND:20251107T130000Z
LOCATION:E1.3\, SR015
SUMMARY:Tutorial #8 (Ahmed)
END:VEVENT
BEGIN:VEVENT
UID:61373861-6165-4435-b433-366465656565
DTSTAMP:20260425T170058Z
DESCRIPTION:
DTSTART:20251114T110000Z
DTEND:20251114T130000Z
LOCATION:E1.3\, SR015
SUMMARY:Tutorial #8 (Ahmed)
END:VEVENT
BEGIN:VEVENT
UID:32333137-3031-4434-b333-393366333537
DTSTAMP:20260425T170058Z
DESCRIPTION:
DTSTART:20251121T110000Z
DTEND:20251121T130000Z
LOCATION:E1.3\, SR015
SUMMARY:Tutorial #8 (Ahmed)
END:VEVENT
BEGIN:VEVENT
UID:38303134-6232-4861-a532-383933626366
DTSTAMP:20260425T170058Z
DESCRIPTION:
DTSTART:20251128T110000Z
DTEND:20251128T130000Z
LOCATION:E1.3\, SR015
SUMMARY:Tutorial #8 (Ahmed)
END:VEVENT
BEGIN:VEVENT
UID:33353161-6438-4634-b163-353938653232
DTSTAMP:20260425T170058Z
DESCRIPTION:
DTSTART:20251205T110000Z
DTEND:20251205T130000Z
LOCATION:E1.3\, SR015
SUMMARY:Tutorial #8 (Ahmed)
END:VEVENT
BEGIN:VEVENT
UID:32663237-6361-4263-b761-653139656139
DTSTAMP:20260425T170058Z
DESCRIPTION:
DTSTART:20251212T110000Z
DTEND:20251212T130000Z
LOCATION:E1.3\, SR015
SUMMARY:Tutorial #8 (Ahmed)
END:VEVENT
BEGIN:VEVENT
UID:66666434-3038-4230-a331-336635396535
DTSTAMP:20260425T170058Z
DESCRIPTION:
DTSTART:20251219T110000Z
DTEND:20251219T130000Z
LOCATION:E1.3\, SR015
SUMMARY:Tutorial #8 (Ahmed)
END:VEVENT
BEGIN:VEVENT
UID:39623863-6664-4563-a539-643337643466
DTSTAMP:20260425T170058Z
DESCRIPTION:
DTSTART:20260109T110000Z
DTEND:20260109T130000Z
LOCATION:E1.3\, SR015
SUMMARY:Tutorial #8 (Ahmed)
END:VEVENT
BEGIN:VEVENT
UID:35383539-3636-4765-b634-613639343436
DTSTAMP:20260425T170058Z
DESCRIPTION:
DTSTART:20260116T110000Z
DTEND:20260116T130000Z
LOCATION:E1.3\, SR015
SUMMARY:Tutorial #8 (Ahmed)
END:VEVENT
BEGIN:VEVENT
UID:32656539-3364-4332-a538-333863343262
DTSTAMP:20260425T170058Z
DESCRIPTION:
DTSTART:20260123T110000Z
DTEND:20260123T130000Z
LOCATION:E1.3\, SR015
SUMMARY:Tutorial #8 (Ahmed)
END:VEVENT
BEGIN:VEVENT
UID:34373532-6466-4665-b332-376234313136
DTSTAMP:20260425T170058Z
DESCRIPTION:
DTSTART:20260130T110000Z
DTEND:20260130T130000Z
LOCATION:E1.3\, SR015
SUMMARY:Tutorial #8 (Ahmed)
END:VEVENT
END:VCALENDAR
