BEGIN:VCALENDAR
VERSION:2.0
PRODID:-//134.96.226.213//NONSGML kigkonsult.se iCalcreator 2.41.92//
CALSCALE:GREGORIAN
METHOD:PUBLISH
UID:63313064-6638-4063-b865-393132393836
X-WR-CALNAME:Human Computer Interaction Calendar
X-WR-CALDESC:Events of the lecture Human Computer Interaction
X-WR-TIMEZONE:Europe/Berlin
BEGIN:VEVENT
UID:33373962-3336-4162-b932-326634313431
DTSTAMP:20260425T153947Z
DESCRIPTION:
DTSTART:20251030T090000Z
DTEND:20251030T110000Z
LOCATION:E1.3\, HS003
SUMMARY:Hci: Tutorial #2 (Maha)
END:VEVENT
BEGIN:VEVENT
UID:33633363-3237-4563-b563-613664333965
DTSTAMP:20260425T153947Z
DESCRIPTION:
DTSTART:20251106T090000Z
DTEND:20251106T110000Z
LOCATION:E1.3\, HS003
SUMMARY:Hci: Tutorial #2 (Maha)
END:VEVENT
BEGIN:VEVENT
UID:38333566-6561-4433-b538-366338393734
DTSTAMP:20260425T153947Z
DESCRIPTION:
DTSTART:20251113T090000Z
DTEND:20251113T110000Z
LOCATION:E1.3\, HS003
SUMMARY:Hci: Tutorial #2 (Maha)
END:VEVENT
BEGIN:VEVENT
UID:36343366-6530-4839-b838-643463326134
DTSTAMP:20260425T153947Z
DESCRIPTION:
DTSTART:20251120T090000Z
DTEND:20251120T110000Z
LOCATION:E1.3\, HS003
SUMMARY:Hci: Tutorial #2 (Maha)
END:VEVENT
BEGIN:VEVENT
UID:61356438-3637-4237-b335-353534613963
DTSTAMP:20260425T153947Z
DESCRIPTION:
DTSTART:20251127T090000Z
DTEND:20251127T110000Z
LOCATION:E1.3\, HS003
SUMMARY:Hci: Tutorial #2 (Maha)
END:VEVENT
BEGIN:VEVENT
UID:39306266-6337-4362-b663-366631653634
DTSTAMP:20260425T153947Z
DESCRIPTION:
DTSTART:20251204T090000Z
DTEND:20251204T110000Z
LOCATION:E1.3\, HS003
SUMMARY:Hci: Tutorial #2 (Maha)
END:VEVENT
BEGIN:VEVENT
UID:65643635-3837-4336-b737-346135323330
DTSTAMP:20260425T153947Z
DESCRIPTION:
DTSTART:20251211T090000Z
DTEND:20251211T110000Z
LOCATION:E1.3\, HS003
SUMMARY:Hci: Tutorial #2 (Maha)
END:VEVENT
BEGIN:VEVENT
UID:30366165-3832-4732-a139-303539313965
DTSTAMP:20260425T153947Z
DESCRIPTION:
DTSTART:20251218T090000Z
DTEND:20251218T110000Z
LOCATION:E1.3\, HS003
SUMMARY:Hci: Tutorial #2 (Maha)
END:VEVENT
BEGIN:VEVENT
UID:61396533-3234-4462-a435-356539633361
DTSTAMP:20260425T153947Z
DESCRIPTION:
DTSTART:20260108T090000Z
DTEND:20260108T110000Z
LOCATION:E1.3\, HS003
SUMMARY:Hci: Tutorial #2 (Maha)
END:VEVENT
BEGIN:VEVENT
UID:30626534-6562-4832-b063-396161336338
DTSTAMP:20260425T153947Z
DESCRIPTION:
DTSTART:20260115T090000Z
DTEND:20260115T110000Z
LOCATION:E1.3\, HS003
SUMMARY:Hci: Tutorial #2 (Maha)
END:VEVENT
BEGIN:VEVENT
UID:65383334-6638-4331-b339-643138346264
DTSTAMP:20260425T153947Z
DESCRIPTION:
DTSTART:20260122T090000Z
DTEND:20260122T110000Z
LOCATION:E1.3\, HS003
SUMMARY:Hci: Tutorial #2 (Maha)
END:VEVENT
BEGIN:VEVENT
UID:36383337-6236-4865-a339-613833353233
DTSTAMP:20260425T153947Z
DESCRIPTION:
DTSTART:20260129T090000Z
DTEND:20260129T110000Z
LOCATION:E1.3\, HS003
SUMMARY:Hci: Tutorial #2 (Maha)
END:VEVENT
END:VCALENDAR
