BEGIN:VCALENDAR
VERSION:2.0
PRODID:-//134.96.226.213//NONSGML kigkonsult.se iCalcreator 2.41.92//
CALSCALE:GREGORIAN
METHOD:PUBLISH
UID:32386534-6661-4332-a664-623430386233
X-WR-CALNAME:Human Computer Interaction Calendar
X-WR-CALDESC:Events of the lecture Human Computer Interaction
X-WR-TIMEZONE:Europe/Berlin
BEGIN:VEVENT
UID:31363966-3831-4635-b165-313439323066
DTSTAMP:20260425T154053Z
DESCRIPTION:
DTSTART:20251030T090000Z
DTEND:20251030T110000Z
LOCATION:E1.3\, HS003
SUMMARY:Tutorial #2 (Maha)
END:VEVENT
BEGIN:VEVENT
UID:32343634-3337-4430-b030-353538393438
DTSTAMP:20260425T154053Z
DESCRIPTION:
DTSTART:20251106T090000Z
DTEND:20251106T110000Z
LOCATION:E1.3\, HS003
SUMMARY:Tutorial #2 (Maha)
END:VEVENT
BEGIN:VEVENT
UID:37616339-6631-4339-b236-346331353639
DTSTAMP:20260425T154053Z
DESCRIPTION:
DTSTART:20251113T090000Z
DTEND:20251113T110000Z
LOCATION:E1.3\, HS003
SUMMARY:Tutorial #2 (Maha)
END:VEVENT
BEGIN:VEVENT
UID:34626638-6561-4133-b436-366536393464
DTSTAMP:20260425T154053Z
DESCRIPTION:
DTSTART:20251120T090000Z
DTEND:20251120T110000Z
LOCATION:E1.3\, HS003
SUMMARY:Tutorial #2 (Maha)
END:VEVENT
BEGIN:VEVENT
UID:64396466-6233-4530-a131-653137326331
DTSTAMP:20260425T154053Z
DESCRIPTION:
DTSTART:20251127T090000Z
DTEND:20251127T110000Z
LOCATION:E1.3\, HS003
SUMMARY:Tutorial #2 (Maha)
END:VEVENT
BEGIN:VEVENT
UID:39343766-6462-4435-b334-343237376131
DTSTAMP:20260425T154053Z
DESCRIPTION:
DTSTART:20251204T090000Z
DTEND:20251204T110000Z
LOCATION:E1.3\, HS003
SUMMARY:Tutorial #2 (Maha)
END:VEVENT
BEGIN:VEVENT
UID:64333038-6230-4662-b831-323531373933
DTSTAMP:20260425T154053Z
DESCRIPTION:
DTSTART:20251211T090000Z
DTEND:20251211T110000Z
LOCATION:E1.3\, HS003
SUMMARY:Tutorial #2 (Maha)
END:VEVENT
BEGIN:VEVENT
UID:66343032-6164-4530-a166-323430326334
DTSTAMP:20260425T154053Z
DESCRIPTION:
DTSTART:20251218T090000Z
DTEND:20251218T110000Z
LOCATION:E1.3\, HS003
SUMMARY:Tutorial #2 (Maha)
END:VEVENT
BEGIN:VEVENT
UID:39383833-3761-4730-a532-353961303366
DTSTAMP:20260425T154053Z
DESCRIPTION:
DTSTART:20260108T090000Z
DTEND:20260108T110000Z
LOCATION:E1.3\, HS003
SUMMARY:Tutorial #2 (Maha)
END:VEVENT
BEGIN:VEVENT
UID:63656132-3062-4731-b234-663633313839
DTSTAMP:20260425T154053Z
DESCRIPTION:
DTSTART:20260115T090000Z
DTEND:20260115T110000Z
LOCATION:E1.3\, HS003
SUMMARY:Tutorial #2 (Maha)
END:VEVENT
BEGIN:VEVENT
UID:33386237-6165-4336-b964-363061383634
DTSTAMP:20260425T154053Z
DESCRIPTION:
DTSTART:20260122T090000Z
DTEND:20260122T110000Z
LOCATION:E1.3\, HS003
SUMMARY:Tutorial #2 (Maha)
END:VEVENT
BEGIN:VEVENT
UID:36383266-6165-4632-b738-343261386562
DTSTAMP:20260425T154053Z
DESCRIPTION:
DTSTART:20260129T090000Z
DTEND:20260129T110000Z
LOCATION:E1.3\, HS003
SUMMARY:Tutorial #2 (Maha)
END:VEVENT
END:VCALENDAR
