BEGIN:VCALENDAR
VERSION:2.0
PRODID:-//134.96.226.213//NONSGML kigkonsult.se iCalcreator 2.41.92//
CALSCALE:GREGORIAN
METHOD:PUBLISH
UID:39383565-3235-4136-b162-373162623336
X-WR-CALNAME:Human Computer Interaction Calendar
X-WR-CALDESC:Events of the lecture Human Computer Interaction
X-WR-TIMEZONE:Europe/Berlin
BEGIN:VEVENT
UID:32326362-3232-4530-b034-333435396632
DTSTAMP:20260425T154042Z
DESCRIPTION:
DTSTART:20251031T090000Z
DTEND:20251031T110000Z
LOCATION:E1.3\, SR014
SUMMARY:Hci: Tutorial #7 (Ahrar)
END:VEVENT
BEGIN:VEVENT
UID:64396639-6266-4339-b461-356134383761
DTSTAMP:20260425T154042Z
DESCRIPTION:
DTSTART:20251107T090000Z
DTEND:20251107T110000Z
LOCATION:E1.3\, SR014
SUMMARY:Hci: Tutorial #7 (Ahrar)
END:VEVENT
BEGIN:VEVENT
UID:31363437-6166-4164-a462-373337303532
DTSTAMP:20260425T154042Z
DESCRIPTION:
DTSTART:20251114T090000Z
DTEND:20251114T110000Z
LOCATION:E1.3\, SR014
SUMMARY:Hci: Tutorial #7 (Ahrar)
END:VEVENT
BEGIN:VEVENT
UID:63386561-6131-4732-a633-366636373966
DTSTAMP:20260425T154042Z
DESCRIPTION:
DTSTART:20251121T090000Z
DTEND:20251121T110000Z
LOCATION:E1.3\, SR014
SUMMARY:Hci: Tutorial #7 (Ahrar)
END:VEVENT
BEGIN:VEVENT
UID:62653335-6438-4330-a365-343663653639
DTSTAMP:20260425T154042Z
DESCRIPTION:
DTSTART:20251128T090000Z
DTEND:20251128T110000Z
LOCATION:E1.3\, SR014
SUMMARY:Hci: Tutorial #7 (Ahrar)
END:VEVENT
BEGIN:VEVENT
UID:35316339-6137-4633-b836-373839373062
DTSTAMP:20260425T154042Z
DESCRIPTION:
DTSTART:20251205T090000Z
DTEND:20251205T110000Z
LOCATION:E1.3\, SR014
SUMMARY:Hci: Tutorial #7 (Ahrar)
END:VEVENT
BEGIN:VEVENT
UID:31626464-3333-4239-b031-396435313565
DTSTAMP:20260425T154042Z
DESCRIPTION:
DTSTART:20251212T090000Z
DTEND:20251212T110000Z
LOCATION:E1.3\, SR014
SUMMARY:Hci: Tutorial #7 (Ahrar)
END:VEVENT
BEGIN:VEVENT
UID:62666539-3039-4032-a338-396561663364
DTSTAMP:20260425T154042Z
DESCRIPTION:
DTSTART:20251219T090000Z
DTEND:20251219T110000Z
LOCATION:E1.3\, SR014
SUMMARY:Hci: Tutorial #7 (Ahrar)
END:VEVENT
BEGIN:VEVENT
UID:39313039-3539-4634-a338-323137356132
DTSTAMP:20260425T154042Z
DESCRIPTION:
DTSTART:20260109T090000Z
DTEND:20260109T110000Z
LOCATION:E1.3\, SR014
SUMMARY:Hci: Tutorial #7 (Ahrar)
END:VEVENT
BEGIN:VEVENT
UID:64353265-3433-4234-a363-613061633139
DTSTAMP:20260425T154042Z
DESCRIPTION:
DTSTART:20260116T090000Z
DTEND:20260116T110000Z
LOCATION:E1.3\, SR014
SUMMARY:Hci: Tutorial #7 (Ahrar)
END:VEVENT
BEGIN:VEVENT
UID:31353738-3162-4438-a564-303965316464
DTSTAMP:20260425T154042Z
DESCRIPTION:
DTSTART:20260123T090000Z
DTEND:20260123T110000Z
LOCATION:E1.3\, SR014
SUMMARY:Hci: Tutorial #7 (Ahrar)
END:VEVENT
BEGIN:VEVENT
UID:66643564-6437-4835-b763-383733363766
DTSTAMP:20260425T154042Z
DESCRIPTION:
DTSTART:20260130T090000Z
DTEND:20260130T110000Z
LOCATION:E1.3\, SR014
SUMMARY:Hci: Tutorial #7 (Ahrar)
END:VEVENT
END:VCALENDAR
