BEGIN:VCALENDAR
VERSION:2.0
PRODID:-//134.96.226.213//NONSGML kigkonsult.se iCalcreator 2.41.92//
CALSCALE:GREGORIAN
METHOD:PUBLISH
UID:64363136-3239-4938-b463-356563323863
X-WR-CALNAME:Human Computer Interaction Calendar
X-WR-CALDESC:Events of the lecture Human Computer Interaction
X-WR-TIMEZONE:Europe/Berlin
BEGIN:VEVENT
UID:30343438-3064-4639-a365-666137323930
DTSTAMP:20260425T170140Z
DESCRIPTION:
DTSTART:20251031T090000Z
DTEND:20251031T110000Z
LOCATION:E1.3\, SR014
SUMMARY:Tutorial #7 (Ahrar)
END:VEVENT
BEGIN:VEVENT
UID:32643964-6466-4234-a230-346434306462
DTSTAMP:20260425T170140Z
DESCRIPTION:
DTSTART:20251107T090000Z
DTEND:20251107T110000Z
LOCATION:E1.3\, SR014
SUMMARY:Tutorial #7 (Ahrar)
END:VEVENT
BEGIN:VEVENT
UID:66396533-3562-4136-a531-666135623665
DTSTAMP:20260425T170140Z
DESCRIPTION:
DTSTART:20251114T090000Z
DTEND:20251114T110000Z
LOCATION:E1.3\, SR014
SUMMARY:Tutorial #7 (Ahrar)
END:VEVENT
BEGIN:VEVENT
UID:64633135-6138-4134-b137-626637623136
DTSTAMP:20260425T170140Z
DESCRIPTION:
DTSTART:20251121T090000Z
DTEND:20251121T110000Z
LOCATION:E1.3\, SR014
SUMMARY:Tutorial #7 (Ahrar)
END:VEVENT
BEGIN:VEVENT
UID:38356162-3466-4231-a539-613763326166
DTSTAMP:20260425T170140Z
DESCRIPTION:
DTSTART:20251128T090000Z
DTEND:20251128T110000Z
LOCATION:E1.3\, SR014
SUMMARY:Tutorial #7 (Ahrar)
END:VEVENT
BEGIN:VEVENT
UID:30353762-6666-4135-a235-633234373539
DTSTAMP:20260425T170140Z
DESCRIPTION:
DTSTART:20251205T090000Z
DTEND:20251205T110000Z
LOCATION:E1.3\, SR014
SUMMARY:Tutorial #7 (Ahrar)
END:VEVENT
BEGIN:VEVENT
UID:37373363-3064-4163-b462-313164316465
DTSTAMP:20260425T170140Z
DESCRIPTION:
DTSTART:20251212T090000Z
DTEND:20251212T110000Z
LOCATION:E1.3\, SR014
SUMMARY:Tutorial #7 (Ahrar)
END:VEVENT
BEGIN:VEVENT
UID:33616431-6438-4566-a139-643836333234
DTSTAMP:20260425T170140Z
DESCRIPTION:
DTSTART:20251219T090000Z
DTEND:20251219T110000Z
LOCATION:E1.3\, SR014
SUMMARY:Tutorial #7 (Ahrar)
END:VEVENT
BEGIN:VEVENT
UID:35633136-6339-4431-b335-376166386634
DTSTAMP:20260425T170140Z
DESCRIPTION:
DTSTART:20260109T090000Z
DTEND:20260109T110000Z
LOCATION:E1.3\, SR014
SUMMARY:Tutorial #7 (Ahrar)
END:VEVENT
BEGIN:VEVENT
UID:34616132-3730-4461-b733-653638383232
DTSTAMP:20260425T170140Z
DESCRIPTION:
DTSTART:20260116T090000Z
DTEND:20260116T110000Z
LOCATION:E1.3\, SR014
SUMMARY:Tutorial #7 (Ahrar)
END:VEVENT
BEGIN:VEVENT
UID:34393339-6163-4362-a132-386538366264
DTSTAMP:20260425T170140Z
DESCRIPTION:
DTSTART:20260123T090000Z
DTEND:20260123T110000Z
LOCATION:E1.3\, SR014
SUMMARY:Tutorial #7 (Ahrar)
END:VEVENT
BEGIN:VEVENT
UID:37303763-6631-4336-b664-333736386265
DTSTAMP:20260425T170140Z
DESCRIPTION:
DTSTART:20260130T090000Z
DTEND:20260130T110000Z
LOCATION:E1.3\, SR014
SUMMARY:Tutorial #7 (Ahrar)
END:VEVENT
END:VCALENDAR
