BEGIN:VCALENDAR
VERSION:2.0
PRODID:-//134.96.226.213//NONSGML kigkonsult.se iCalcreator 2.41.92//
CALSCALE:GREGORIAN
METHOD:PUBLISH
UID:35343230-3432-4962-a635-383664633730
X-WR-CALNAME:Human Computer Interaction Calendar
X-WR-CALDESC:Events of the lecture Human Computer Interaction
X-WR-TIMEZONE:Europe/Berlin
BEGIN:VEVENT
UID:36613635-3633-4665-b730-663738363231
DTSTAMP:20260425T154042Z
DESCRIPTION:Please only register if you were allocated a place on LSF
DTSTART:20251020T215500Z
DTEND:20251020T215500Z
SUMMARY:Hci: End of Registration and Tutorial Choice
END:VEVENT
END:VCALENDAR
