BEGIN:VCALENDAR
VERSION:2.0
PRODID:-//134.96.226.213//NONSGML kigkonsult.se iCalcreator 2.41.92//
CALSCALE:GREGORIAN
METHOD:PUBLISH
UID:36303634-6265-4534-a634-623361636231
X-WR-CALNAME:Human Computer Interaction Calendar
X-WR-CALDESC:Events of the lecture Human Computer Interaction
X-WR-TIMEZONE:Europe/Berlin
BEGIN:VEVENT
UID:36623935-6363-4266-a532-633030326664
DTSTAMP:20260425T153948Z
DESCRIPTION:Please only register if you were allocated a place on LSF
DTSTART:20251020T215500Z
DTEND:20251020T215500Z
SUMMARY:End of Registration and Tutorial Choice
END:VEVENT
END:VCALENDAR
