BEGIN:VCALENDAR
VERSION:2.0
PRODID:-//134.96.226.213//NONSGML kigkonsult.se iCalcreator 2.41.92//
CALSCALE:GREGORIAN
METHOD:PUBLISH
UID:34373937-3166-4230-a262-306230333061
X-WR-CALNAME:Human Computer Interaction Calendar
X-WR-CALDESC:Events of the lecture Human Computer Interaction
X-WR-TIMEZONE:Europe/Berlin
BEGIN:VEVENT
UID:34363436-6237-4332-a133-633662313061
DTSTAMP:20260425T154040Z
DESCRIPTION:
DTSTART:20260121T225900Z
DTEND:20260121T225900Z
SUMMARY:Hci: Assignment 7 due
END:VEVENT
BEGIN:VEVENT
UID:30316563-3862-4833-b965-626537663662
DTSTAMP:20260425T154040Z
DESCRIPTION:
DTSTART:20260128T225900Z
DTEND:20260128T225900Z
SUMMARY:Hci: Assignment 7 slides due
END:VEVENT
END:VCALENDAR
