BEGIN:VCALENDAR
VERSION:2.0
PRODID:-//134.96.226.213//NONSGML kigkonsult.se iCalcreator 2.41.92//
CALSCALE:GREGORIAN
METHOD:PUBLISH
UID:31386133-3138-4263-b635-613965636666
X-WR-CALNAME:Human Computer Interaction Calendar
X-WR-CALDESC:Events of the lecture Human Computer Interaction
X-WR-TIMEZONE:Europe/Berlin
BEGIN:VEVENT
UID:30623831-3565-4765-b936-643262353862
DTSTAMP:20260425T153944Z
DESCRIPTION:
DTSTART:20260121T225900Z
DTEND:20260121T225900Z
SUMMARY:Assignment 7 due
END:VEVENT
BEGIN:VEVENT
UID:37326663-3564-4137-a330-663234333538
DTSTAMP:20260425T153944Z
DESCRIPTION:
DTSTART:20260128T225900Z
DTEND:20260128T225900Z
SUMMARY:Assignment 7 slides due
END:VEVENT
END:VCALENDAR
