BEGIN:VCALENDAR
VERSION:2.0
PRODID:-//134.96.226.213//NONSGML kigkonsult.se iCalcreator 2.41.92//
CALSCALE:GREGORIAN
METHOD:PUBLISH
UID:30383633-3564-4737-b337-306165666139
X-WR-CALNAME:Human Computer Interaction Calendar
X-WR-CALDESC:Events of the lecture Human Computer Interaction
X-WR-TIMEZONE:Europe/Berlin
BEGIN:VEVENT
UID:34653337-3734-4665-a335-633338363236
DTSTAMP:20260425T154041Z
DESCRIPTION:
DTSTART:20260107T150000Z
DTEND:20260107T150000Z
SUMMARY:Assignment 7 out
END:VEVENT
END:VCALENDAR
