BEGIN:VCALENDAR
VERSION:2.0
PRODID:-//134.96.226.213//NONSGML kigkonsult.se iCalcreator 2.41.92//
CALSCALE:GREGORIAN
METHOD:PUBLISH
UID:39346566-6437-4365-a266-643034626538
X-WR-CALNAME:Human Computer Interaction Calendar
X-WR-CALDESC:Events of the lecture Human Computer Interaction
X-WR-TIMEZONE:Europe/Berlin
BEGIN:VEVENT
UID:61643336-3665-4232-b032-323537396432
DTSTAMP:20260425T154041Z
DESCRIPTION:
DTSTART:20251210T150000Z
DTEND:20251210T150000Z
SUMMARY:Hci: Assignment 6 out
END:VEVENT
END:VCALENDAR
