BEGIN:VCALENDAR
VERSION:2.0
PRODID:-//134.96.226.213//NONSGML kigkonsult.se iCalcreator 2.41.92//
CALSCALE:GREGORIAN
METHOD:PUBLISH
UID:34346462-3936-4166-b336-313634373739
X-WR-CALNAME:Human Computer Interaction Calendar
X-WR-CALDESC:Events of the lecture Human Computer Interaction
X-WR-TIMEZONE:Europe/Berlin
BEGIN:VEVENT
UID:30663536-6665-4433-b236-326664373564
DTSTAMP:20260425T153946Z
DESCRIPTION:
DTSTART:20251210T150000Z
DTEND:20251210T150000Z
SUMMARY:Assignment 6 out
END:VEVENT
END:VCALENDAR
