BEGIN:VCALENDAR
VERSION:2.0
PRODID:-//134.96.226.213//NONSGML kigkonsult.se iCalcreator 2.41.92//
CALSCALE:GREGORIAN
METHOD:PUBLISH
UID:35646239-3635-4231-b735-386534396362
X-WR-CALNAME:Human Computer Interaction Calendar
X-WR-CALDESC:Events of the lecture Human Computer Interaction
X-WR-TIMEZONE:Europe/Berlin
BEGIN:VEVENT
UID:33633435-3336-4335-b062-653561636530
DTSTAMP:20260425T170056Z
DESCRIPTION:
DTSTART:20251126T150000Z
DTEND:20251126T150000Z
SUMMARY:Hci: Assignment 5 out
END:VEVENT
END:VCALENDAR
