BEGIN:VCALENDAR
VERSION:2.0
PRODID:-//134.96.226.213//NONSGML kigkonsult.se iCalcreator 2.41.92//
CALSCALE:GREGORIAN
METHOD:PUBLISH
UID:31353438-6639-4165-b932-356633363564
X-WR-CALNAME:Human Computer Interaction Calendar
X-WR-CALDESC:Events of the lecture Human Computer Interaction
X-WR-TIMEZONE:Europe/Berlin
BEGIN:VEVENT
UID:38633235-6335-4138-a136-323863343964
DTSTAMP:20260425T153948Z
DESCRIPTION:
DTSTART:20251126T150000Z
DTEND:20251126T150000Z
SUMMARY:Assignment 5 out
END:VEVENT
END:VCALENDAR
