BEGIN:VCALENDAR
VERSION:2.0
PRODID:-//134.96.226.213//NONSGML kigkonsult.se iCalcreator 2.41.92//
CALSCALE:GREGORIAN
METHOD:PUBLISH
UID:33306365-3233-4162-b566-626166343761
X-WR-CALNAME:Human Computer Interaction Calendar
X-WR-CALDESC:Events of the lecture Human Computer Interaction
X-WR-TIMEZONE:Europe/Berlin
BEGIN:VEVENT
UID:30316439-6266-4338-b331-313662626636
DTSTAMP:20260425T153433Z
DESCRIPTION:
DTSTART:20251119T150000Z
DTEND:20251119T150000Z
SUMMARY:Hci: Assignment 4 out
END:VEVENT
END:VCALENDAR
