BEGIN:VCALENDAR
VERSION:2.0
PRODID:-//134.96.226.213//NONSGML kigkonsult.se iCalcreator 2.41.92//
CALSCALE:GREGORIAN
METHOD:PUBLISH
UID:37333363-6265-4338-b634-303237633136
X-WR-CALNAME:Human Computer Interaction Calendar
X-WR-CALDESC:Events of the lecture Human Computer Interaction
X-WR-TIMEZONE:Europe/Berlin
BEGIN:VEVENT
UID:34393731-3930-4736-a133-613433613464
DTSTAMP:20260425T170057Z
DESCRIPTION:
DTSTART:20251119T150000Z
DTEND:20251119T150000Z
SUMMARY:Assignment 4 out
END:VEVENT
END:VCALENDAR
