BEGIN:VCALENDAR
VERSION:2.0
PRODID:-//134.96.226.213//NONSGML kigkonsult.se iCalcreator 2.41.92//
CALSCALE:GREGORIAN
METHOD:PUBLISH
UID:31646466-3463-4064-a537-313731646639
X-WR-CALNAME:Human Computer Interaction Calendar
X-WR-CALDESC:Events of the lecture Human Computer Interaction
X-WR-TIMEZONE:Europe/Berlin
BEGIN:VEVENT
UID:61323662-3864-4164-b634-356564323638
DTSTAMP:20260425T170055Z
DESCRIPTION:
DTSTART:20251112T150000Z
DTEND:20251112T150000Z
SUMMARY:Hci: Assignment 3 out
END:VEVENT
END:VCALENDAR
