BEGIN:VCALENDAR
VERSION:2.0
PRODID:-//134.96.226.213//NONSGML kigkonsult.se iCalcreator 2.41.92//
CALSCALE:GREGORIAN
METHOD:PUBLISH
UID:33393334-3430-4538-a630-393836343732
X-WR-CALNAME:Human Computer Interaction Calendar
X-WR-CALDESC:Events of the lecture Human Computer Interaction
X-WR-TIMEZONE:Europe/Berlin
BEGIN:VEVENT
UID:30343431-3533-4837-b563-393532393863
DTSTAMP:20260425T153945Z
DESCRIPTION:
DTSTART:20251112T150000Z
DTEND:20251112T150000Z
SUMMARY:Assignment 3 out
END:VEVENT
END:VCALENDAR
