BEGIN:VCALENDAR
VERSION:2.0
PRODID:-//134.96.226.213//NONSGML kigkonsult.se iCalcreator 2.41.92//
CALSCALE:GREGORIAN
METHOD:PUBLISH
UID:61343336-3836-4837-b866-386536623234
X-WR-CALNAME:Human Computer Interaction Calendar
X-WR-CALDESC:Events of the lecture Human Computer Interaction
X-WR-TIMEZONE:Europe/Berlin
BEGIN:VEVENT
UID:32663134-3831-4231-b032-393037376230
DTSTAMP:20260425T154052Z
DESCRIPTION:
DTSTART:20251030T090000Z
DTEND:20251030T110000Z
LOCATION:E1.1\, SR206
SUMMARY:Hci: Tutorial #1 (Chandana)
END:VEVENT
BEGIN:VEVENT
UID:65346432-6535-4163-b737-306636323237
DTSTAMP:20260425T154052Z
DESCRIPTION:
DTSTART:20251106T090000Z
DTEND:20251106T110000Z
LOCATION:E1.1\, SR206
SUMMARY:Hci: Tutorial #1 (Chandana)
END:VEVENT
BEGIN:VEVENT
UID:39313833-6162-4563-b233-376534363565
DTSTAMP:20260425T154052Z
DESCRIPTION:
DTSTART:20251113T090000Z
DTEND:20251113T110000Z
LOCATION:E1.1\, SR206
SUMMARY:Hci: Tutorial #1 (Chandana)
END:VEVENT
BEGIN:VEVENT
UID:37363030-3964-4861-a562-343032356263
DTSTAMP:20260425T154052Z
DESCRIPTION:
DTSTART:20251120T090000Z
DTEND:20251120T110000Z
LOCATION:E1.1\, SR206
SUMMARY:Hci: Tutorial #1 (Chandana)
END:VEVENT
BEGIN:VEVENT
UID:33633163-3632-4965-b065-313635633937
DTSTAMP:20260425T154052Z
DESCRIPTION:
DTSTART:20251127T090000Z
DTEND:20251127T110000Z
LOCATION:E1.1\, SR206
SUMMARY:Hci: Tutorial #1 (Chandana)
END:VEVENT
BEGIN:VEVENT
UID:64376331-6631-4132-a362-663061663135
DTSTAMP:20260425T154052Z
DESCRIPTION:
DTSTART:20251204T090000Z
DTEND:20251204T110000Z
LOCATION:E1.1\, SR206
SUMMARY:Hci: Tutorial #1 (Chandana)
END:VEVENT
BEGIN:VEVENT
UID:61633665-3730-4637-a366-636132313733
DTSTAMP:20260425T154052Z
DESCRIPTION:
DTSTART:20251211T090000Z
DTEND:20251211T110000Z
LOCATION:E1.1\, SR206
SUMMARY:Hci: Tutorial #1 (Chandana)
END:VEVENT
BEGIN:VEVENT
UID:39643736-3532-4537-a631-346337333731
DTSTAMP:20260425T154052Z
DESCRIPTION:
DTSTART:20251218T090000Z
DTEND:20251218T110000Z
LOCATION:E1.1\, SR206
SUMMARY:Hci: Tutorial #1 (Chandana)
END:VEVENT
BEGIN:VEVENT
UID:37643364-6237-4130-b735-323562393363
DTSTAMP:20260425T154052Z
DESCRIPTION:
DTSTART:20260108T090000Z
DTEND:20260108T110000Z
LOCATION:E1.1\, SR206
SUMMARY:Hci: Tutorial #1 (Chandana)
END:VEVENT
BEGIN:VEVENT
UID:65363235-3232-4262-b634-393964653534
DTSTAMP:20260425T154052Z
DESCRIPTION:
DTSTART:20260115T090000Z
DTEND:20260115T110000Z
LOCATION:E1.1\, SR206
SUMMARY:Hci: Tutorial #1 (Chandana)
END:VEVENT
BEGIN:VEVENT
UID:35316161-3265-4932-b135-396536623933
DTSTAMP:20260425T154052Z
DESCRIPTION:
DTSTART:20260122T090000Z
DTEND:20260122T110000Z
LOCATION:E1.1\, SR206
SUMMARY:Hci: Tutorial #1 (Chandana)
END:VEVENT
BEGIN:VEVENT
UID:63633665-3166-4937-b361-646234666234
DTSTAMP:20260425T154052Z
DESCRIPTION:
DTSTART:20260129T090000Z
DTEND:20260129T110000Z
LOCATION:E1.1\, SR206
SUMMARY:Hci: Tutorial #1 (Chandana)
END:VEVENT
END:VCALENDAR
