BEGIN:VCALENDAR
VERSION:2.0
PRODID:-//134.96.226.213//NONSGML kigkonsult.se iCalcreator 2.41.92//
CALSCALE:GREGORIAN
METHOD:PUBLISH
UID:30363337-6130-4765-b437-346166393838
X-WR-CALNAME:Human Computer Interaction Calendar
X-WR-CALDESC:Events of the lecture Human Computer Interaction
X-WR-TIMEZONE:Europe/Berlin
BEGIN:VEVENT
UID:62333264-3239-4837-b833-663736396262
DTSTAMP:20260425T153908Z
DESCRIPTION:
DTSTART:20251030T090000Z
DTEND:20251030T110000Z
LOCATION:E1.1\, SR206
SUMMARY:Tutorial #1 (Chandana)
END:VEVENT
BEGIN:VEVENT
UID:38623835-6466-4165-b731-643762616436
DTSTAMP:20260425T153908Z
DESCRIPTION:
DTSTART:20251106T090000Z
DTEND:20251106T110000Z
LOCATION:E1.1\, SR206
SUMMARY:Tutorial #1 (Chandana)
END:VEVENT
BEGIN:VEVENT
UID:34366163-6461-4366-a566-326637633630
DTSTAMP:20260425T153908Z
DESCRIPTION:
DTSTART:20251113T090000Z
DTEND:20251113T110000Z
LOCATION:E1.1\, SR206
SUMMARY:Tutorial #1 (Chandana)
END:VEVENT
BEGIN:VEVENT
UID:33393461-3134-4263-b435-393832343962
DTSTAMP:20260425T153908Z
DESCRIPTION:
DTSTART:20251120T090000Z
DTEND:20251120T110000Z
LOCATION:E1.1\, SR206
SUMMARY:Tutorial #1 (Chandana)
END:VEVENT
BEGIN:VEVENT
UID:31323961-3934-4636-b639-323665666164
DTSTAMP:20260425T153908Z
DESCRIPTION:
DTSTART:20251127T090000Z
DTEND:20251127T110000Z
LOCATION:E1.1\, SR206
SUMMARY:Tutorial #1 (Chandana)
END:VEVENT
BEGIN:VEVENT
UID:30323838-6637-4631-a563-383036303561
DTSTAMP:20260425T153908Z
DESCRIPTION:
DTSTART:20251204T090000Z
DTEND:20251204T110000Z
LOCATION:E1.1\, SR206
SUMMARY:Tutorial #1 (Chandana)
END:VEVENT
BEGIN:VEVENT
UID:35633934-6665-4530-a666-363132373262
DTSTAMP:20260425T153908Z
DESCRIPTION:
DTSTART:20251211T090000Z
DTEND:20251211T110000Z
LOCATION:E1.1\, SR206
SUMMARY:Tutorial #1 (Chandana)
END:VEVENT
BEGIN:VEVENT
UID:63646334-3365-4434-b862-626463303064
DTSTAMP:20260425T153908Z
DESCRIPTION:
DTSTART:20251218T090000Z
DTEND:20251218T110000Z
LOCATION:E1.1\, SR206
SUMMARY:Tutorial #1 (Chandana)
END:VEVENT
BEGIN:VEVENT
UID:38323431-3564-4562-a337-336234326138
DTSTAMP:20260425T153908Z
DESCRIPTION:
DTSTART:20260108T090000Z
DTEND:20260108T110000Z
LOCATION:E1.1\, SR206
SUMMARY:Tutorial #1 (Chandana)
END:VEVENT
BEGIN:VEVENT
UID:64303765-6131-4564-b864-666431653366
DTSTAMP:20260425T153908Z
DESCRIPTION:
DTSTART:20260115T090000Z
DTEND:20260115T110000Z
LOCATION:E1.1\, SR206
SUMMARY:Tutorial #1 (Chandana)
END:VEVENT
BEGIN:VEVENT
UID:36626364-3432-4438-b964-363035323464
DTSTAMP:20260425T153908Z
DESCRIPTION:
DTSTART:20260122T090000Z
DTEND:20260122T110000Z
LOCATION:E1.1\, SR206
SUMMARY:Tutorial #1 (Chandana)
END:VEVENT
BEGIN:VEVENT
UID:31643832-3439-4463-b331-623933346432
DTSTAMP:20260425T153908Z
DESCRIPTION:
DTSTART:20260129T090000Z
DTEND:20260129T110000Z
LOCATION:E1.1\, SR206
SUMMARY:Tutorial #1 (Chandana)
END:VEVENT
END:VCALENDAR
