BEGIN:VCALENDAR
VERSION:2.0
PRODID:-//134.96.226.213//NONSGML kigkonsult.se iCalcreator 2.41.92//
CALSCALE:GREGORIAN
METHOD:PUBLISH
UID:39333462-3538-4065-b264-383530303331
X-WR-CALNAME:Human Computer Interaction Calendar
X-WR-CALDESC:Events of the lecture Human Computer Interaction
X-WR-TIMEZONE:Europe/Berlin
BEGIN:VEVENT
UID:37313034-6431-4230-b362-656462373566
DTSTAMP:20260425T154041Z
DESCRIPTION:
DTSTART:20251105T150000Z
DTEND:20251105T150000Z
SUMMARY:Hci: Assignment 2 out
END:VEVENT
END:VCALENDAR
