BEGIN:VCALENDAR
VERSION:2.0
PRODID:-//134.96.226.213//NONSGML kigkonsult.se iCalcreator 2.41.92//
CALSCALE:GREGORIAN
METHOD:PUBLISH
UID:34333965-3232-4066-a265-656163316366
X-WR-CALNAME:Human Computer Interaction Calendar
X-WR-CALDESC:Events of the lecture Human Computer Interaction
X-WR-TIMEZONE:Europe/Berlin
BEGIN:VEVENT
UID:36376262-3634-4734-a366-333630366361
DTSTAMP:20260425T170057Z
DESCRIPTION:
DTSTART:20251105T150000Z
DTEND:20251105T150000Z
SUMMARY:Assignment 2 out
END:VEVENT
END:VCALENDAR
