BEGIN:VCALENDAR
VERSION:2.0
PRODID:-//134.96.226.213//NONSGML kigkonsult.se iCalcreator 2.41.92//
CALSCALE:GREGORIAN
METHOD:PUBLISH
UID:34363565-6662-4662-a232-386236386437
X-WR-CALNAME:Human Computer Interaction Calendar
X-WR-CALDESC:Events of the lecture Human Computer Interaction
X-WR-TIMEZONE:Europe/Berlin
BEGIN:VEVENT
UID:65633663-3365-4461-b639-666663356136
DTSTAMP:20260425T154041Z
DESCRIPTION:
DTSTART:20251029T150000Z
DTEND:20251029T150000Z
SUMMARY:Hci: Assignment 1 out
END:VEVENT
END:VCALENDAR
