BEGIN:VCALENDAR
VERSION:2.0
PRODID:-//134.96.226.213//NONSGML kigkonsult.se iCalcreator 2.41.92//
CALSCALE:GREGORIAN
METHOD:PUBLISH
UID:36623161-3262-4866-a335-363364656135
X-WR-CALNAME:Human Computer Interaction Calendar
X-WR-CALDESC:Events of the lecture Human Computer Interaction
X-WR-TIMEZONE:Europe/Berlin
BEGIN:VEVENT
UID:31363235-3964-4432-b330-656463353238
DTSTAMP:20260425T153945Z
DESCRIPTION:
DTSTART:20251029T150000Z
DTEND:20251029T150000Z
SUMMARY:Assignment 1 out
END:VEVENT
END:VCALENDAR
