BEGIN:VCALENDAR
VERSION:2.0
PRODID:-//134.96.226.213//NONSGML kigkonsult.se iCalcreator 2.41.92//
CALSCALE:GREGORIAN
METHOD:PUBLISH
UID:32326134-6134-4561-b765-303236333133
X-WR-CALNAME:Human Computer Interaction Calendar
X-WR-CALDESC:Events of the lecture Human Computer Interaction
X-WR-TIMEZONE:Europe/Berlin
BEGIN:VEVENT
UID:66386164-3939-4162-a664-613766303961
DTSTAMP:20260425T154042Z
DESCRIPTION:
DTSTART:20260110T225900Z
DTEND:20260110T225900Z
SUMMARY:Hci: Assignment 6 due
END:VEVENT
END:VCALENDAR
