BEGIN:VCALENDAR
VERSION:2.0
PRODID:-//134.96.226.213//NONSGML kigkonsult.se iCalcreator 2.41.92//
CALSCALE:GREGORIAN
METHOD:PUBLISH
UID:30613638-6437-4161-b630-316463353735
X-WR-CALNAME:Human Computer Interaction Calendar
X-WR-CALDESC:Events of the lecture Human Computer Interaction
X-WR-TIMEZONE:Europe/Berlin
BEGIN:VEVENT
UID:31346237-3233-4933-b736-376135663166
DTSTAMP:20260425T153946Z
DESCRIPTION:
DTSTART:20260110T225900Z
DTEND:20260110T225900Z
SUMMARY:Assignment 6 due
END:VEVENT
END:VCALENDAR
