BEGIN:VCALENDAR
VERSION:2.0
PRODID:-//134.96.226.213//NONSGML kigkonsult.se iCalcreator 2.41.92//
CALSCALE:GREGORIAN
METHOD:PUBLISH
UID:61333662-3739-4032-b363-653762623131
X-WR-CALNAME:Human Computer Interaction Calendar
X-WR-CALDESC:Events of the lecture Human Computer Interaction
X-WR-TIMEZONE:Europe/Berlin
BEGIN:VEVENT
UID:62313065-3063-4664-b866-303030306663
DTSTAMP:20260425T154039Z
DESCRIPTION:
DTSTART:20251210T225900Z
DTEND:20251210T225900Z
SUMMARY:Hci: Assignment 5 due
END:VEVENT
END:VCALENDAR
