BEGIN:VCALENDAR
VERSION:2.0
PRODID:-//134.96.226.213//NONSGML kigkonsult.se iCalcreator 2.41.92//
CALSCALE:GREGORIAN
METHOD:PUBLISH
UID:62613032-3937-4632-b039-303036613165
X-WR-CALNAME:Human Computer Interaction Calendar
X-WR-CALDESC:Events of the lecture Human Computer Interaction
X-WR-TIMEZONE:Europe/Berlin
BEGIN:VEVENT
UID:38313266-3066-4634-a461-656433323236
DTSTAMP:20260425T154039Z
DESCRIPTION:
DTSTART:20251210T225900Z
DTEND:20251210T225900Z
SUMMARY:Assignment 5 due
END:VEVENT
END:VCALENDAR
