BEGIN:VCALENDAR
VERSION:2.0
PRODID:-//134.96.226.213//NONSGML kigkonsult.se iCalcreator 2.41.92//
CALSCALE:GREGORIAN
METHOD:PUBLISH
UID:61663233-6330-4465-b665-303861383634
X-WR-CALNAME:Human Computer Interaction Calendar
X-WR-CALDESC:Events of the lecture Human Computer Interaction
X-WR-TIMEZONE:Europe/Berlin
BEGIN:VEVENT
UID:33633463-6332-4137-b535-633364656638
DTSTAMP:20260425T154039Z
DESCRIPTION:
DTSTART:20251126T225900Z
DTEND:20251126T225900Z
SUMMARY:Hci: Assignment 4 due
END:VEVENT
END:VCALENDAR
