BEGIN:VCALENDAR
VERSION:2.0
PRODID:-//134.96.226.213//NONSGML kigkonsult.se iCalcreator 2.41.92//
CALSCALE:GREGORIAN
METHOD:PUBLISH
UID:32633030-6161-4661-a232-346466646666
X-WR-CALNAME:Human Computer Interaction Calendar
X-WR-CALDESC:Events of the lecture Human Computer Interaction
X-WR-TIMEZONE:Europe/Berlin
BEGIN:VEVENT
UID:39323264-3433-4437-a262-613466656435
DTSTAMP:20260425T153944Z
DESCRIPTION:
DTSTART:20251126T225900Z
DTEND:20251126T225900Z
SUMMARY:Assignment 4 due
END:VEVENT
END:VCALENDAR
