BEGIN:VCALENDAR
VERSION:2.0
PRODID:-//134.96.226.213//NONSGML kigkonsult.se iCalcreator 2.41.92//
CALSCALE:GREGORIAN
METHOD:PUBLISH
UID:37643066-6166-4135-a632-626138353062
X-WR-CALNAME:Human Computer Interaction Calendar
X-WR-CALDESC:Events of the lecture Human Computer Interaction
X-WR-TIMEZONE:Europe/Berlin
BEGIN:VEVENT
UID:34323364-3932-4861-b163-343132356466
DTSTAMP:20260425T153911Z
DESCRIPTION:
DTSTART:20251119T225900Z
DTEND:20251119T225900Z
SUMMARY:Hci: Assignment 3 due
END:VEVENT
END:VCALENDAR
