BEGIN:VCALENDAR
VERSION:2.0
PRODID:-//134.96.226.213//NONSGML kigkonsult.se iCalcreator 2.41.92//
CALSCALE:GREGORIAN
METHOD:PUBLISH
UID:65373665-6234-4330-a361-643764363636
X-WR-CALNAME:Human Computer Interaction Calendar
X-WR-CALDESC:Events of the lecture Human Computer Interaction
X-WR-TIMEZONE:Europe/Berlin
BEGIN:VEVENT
UID:33363065-3537-4630-a239-653834363066
DTSTAMP:20260425T153945Z
DESCRIPTION:
DTSTART:20251119T225900Z
DTEND:20251119T225900Z
SUMMARY:Assignment 3 due
END:VEVENT
END:VCALENDAR
